BEGIN:VCALENDAR
VERSION:2.0
METHOD:PUBLISH
PRODID:-//Missouri State University/Calendar of Events//EN
CALSCALE:GREGORIAN
X-WR-TIMEZONE:America/Chicago
BEGIN:VTIMEZONE
TZID:America/Chicago
BEGIN:DAYLIGHT
TZOFFSETFROM:-0600
TZOFFSETTO:-0500
DTSTART:20070311T020000
RRULE:FREQ=YEARLY;BYMONTH=3;BYDAY=2SU
TZNAME:CDT
END:DAYLIGHT
BEGIN:STANDARD
TZOFFSETFROM:-0500
TZOFFSETTO:-0600
DTSTART:20071104T020000
RRULE:FREQ=YEARLY;BYMONTH=11;BYDAY=1SU
TZNAME:CST
END:STANDARD
END:VTIMEZONE
BEGIN:VEVENT
UID:afda4138-29b6-48e4-a75b-7355c2a6b1d3.234548@calendar.missouristate.edu
CREATED:20240305T200820Z
LAST-MODIFIED:20240305T200820Z
LOCATION:Glass Hall\, David D. 438
SUMMARY:Biology Seminar: "Making the Way to Design Potent Vaccines"
DESCRIPTION:The Biology Department will host a seminar featuring Dr. Tarek
  Ahmed from Alexandria University\, Egypt. The topic of the seminar is "M
 aking the Way to Design Potent Vaccines." 
X-ALT-DESC;FMTTYPE=text/html:&lt;html&gt;&lt;head&gt;&lt;title&gt;&lt;/title&gt;&lt;/head&gt;&lt;body&gt;&lt;p&gt;Th
 e Biology Department will host a seminar featuring Dr. Tarek Ahmed from A
 lexandria University\, Egypt. The topic of the seminar is "Making the Way
  to Design Potent Vaccines."&amp;nbsp\; &lt;/p&gt;&lt;/body&gt;&lt;/html&gt;
DTSTART;TZID=America/Chicago:20240307T160000
DTEND;TZID=America/Chicago:20240307T170000
SEQUENCE:0
URL:
CATEGORIES:Alumni,Current Students,Faculty,Staff
END:VEVENT
END:VCALENDAR