BEGIN:VCALENDAR
VERSION:2.0
METHOD:PUBLISH
PRODID:-//Missouri State University/Calendar of Events//EN
CALSCALE:GREGORIAN
X-WR-TIMEZONE:America/Chicago
BEGIN:VTIMEZONE
TZID:America/Chicago
BEGIN:DAYLIGHT
TZOFFSETFROM:-0600
TZOFFSETTO:-0500
DTSTART:20070311T020000
RRULE:FREQ=YEARLY;BYMONTH=3;BYDAY=2SU
TZNAME:CDT
END:DAYLIGHT
BEGIN:STANDARD
TZOFFSETFROM:-0500
TZOFFSETTO:-0600
DTSTART:20071104T020000
RRULE:FREQ=YEARLY;BYMONTH=11;BYDAY=1SU
TZNAME:CST
END:STANDARD
END:VTIMEZONE
BEGIN:VEVENT
UID:d73c8f1c-a99b-45d7-8833-2bb0c3df9e8c.234580@calendar.missouristate.edu
CREATED:20240311T173216Z
LAST-MODIFIED:20240311T173216Z
LOCATION:
SUMMARY:Credit as an Asset - Bolivar
DESCRIPTION:Achieving your financial goals is dependent on having a strong
  credit profile and high credit score. This interactive Credit as an Asse
 t workshop is designed to help you learn more about building and improvin
 g your credit profile so that you can achieve your financial goals.This w
 orkshop will provide you with the tools and information needed to:\n\n\n•
  Set credit building goals• Understand how credit building works• Learn h
 ow to read and understand your credit report and score• Understand how to
  deal with debt and collections while building credit• Explore tools and 
 develop skills to build your credit• Learn about credit building products
  and resources\, which may help you on your credit building journey.
X-ALT-DESC;FMTTYPE=text/html:&lt;html&gt;&lt;head&gt;&lt;title&gt;&lt;/title&gt;&lt;/head&gt;&lt;body&gt;&lt;p&gt;Ac
 hieving your financial goals is dependent on having a strong credit profi
 le and high credit score. This interactive Credit as an Asset workshop is
  designed to help you learn more about building and improving your credit
  profile so that you can achieve your financial goals.&lt;br&gt;&lt;br&gt;This worksh
 op will provide you with the tools and information needed to:&lt;/p&gt;\n&lt;p&gt;• S
 et credit building goals&lt;br&gt;• Understand how credit building works&lt;br&gt;• L
 earn how to read and understand your credit report and score&lt;br&gt;• Underst
 and how to deal with debt and collections while building credit&lt;br&gt;• Expl
 ore tools and develop skills to build your credit&lt;br&gt;• Learn about credit
  building products and resources\, which may help you on your credit buil
 ding journey.&lt;/p&gt;&lt;/body&gt;&lt;/html&gt;
DTSTART;TZID=America/Chicago:20240430T110000
DTEND;TZID=America/Chicago:20240430T130000
SEQUENCE:1
URL:https://missouri.ecenterdirect.com/events/25099
CATEGORIES:Public
END:VEVENT
END:VCALENDAR