BEGIN:VCALENDAR
VERSION:2.0
METHOD:PUBLISH
PRODID:-//Missouri State University/Calendar of Events//EN
CALSCALE:GREGORIAN
X-WR-TIMEZONE:America/Chicago
BEGIN:VTIMEZONE
TZID:America/Chicago
BEGIN:DAYLIGHT
TZOFFSETFROM:-0600
TZOFFSETTO:-0500
DTSTART:20070311T020000
RRULE:FREQ=YEARLY;BYMONTH=3;BYDAY=2SU
TZNAME:CDT
END:DAYLIGHT
BEGIN:STANDARD
TZOFFSETFROM:-0500
TZOFFSETTO:-0600
DTSTART:20071104T020000
RRULE:FREQ=YEARLY;BYMONTH=11;BYDAY=1SU
TZNAME:CST
END:STANDARD
END:VTIMEZONE
BEGIN:VEVENT
UID:0d835ed2-963e-48c1-a064-cec54a08a47e.234581@calendar.missouristate.edu
CREATED:20240313T204108Z
LAST-MODIFIED:20240313T204108Z
LOCATION:
SUMMARY:Becoming a Better Borrower - Bolivar
DESCRIPTION:The Missouri Small Business Development Center (SBDC)\, the Po
 lk County Economic Development Partnership and the New Growth Women's Bus
 iness Center will host a workshop for new and existing businesses focused
  on facilitating access to capital for your new or existing small busines
 s. \n\n\nKrishin Thadani\, OMS\, with the U.S. Small Business Administrat
 ion (SBA) will share his commercial lending knowledge and experience with
  small business owners and entrepreneurs. Chrystal Irons will highlight S
 BDC programs and services for entrepreneurs. Representatives from the New
  Growth Women’s Business Center will be available to answer questions reg
 arding personal credit and the WBC’s personal credit programs.This course
  caters to both new and existing businesses with a focus on:• Those in se
 arch of credit• Individuals looking to deepen their understanding of the 
 borrowing process
X-ALT-DESC;FMTTYPE=text/html:&lt;html&gt;&lt;head&gt;&lt;title&gt;&lt;/title&gt;&lt;/head&gt;&lt;body&gt;&lt;p&gt;&lt;s
 pan&gt;The Missouri Small Business Development Center (SBDC)\, the Polk Coun
 ty Economic Development Partnership and the New Growth Women's Business C
 enter will host a workshop for new and existing businesses focused on fac
 ilitating access to capital for your new or existing small business. &lt;/sp
 an&gt;&lt;/p&gt;\n&lt;p&gt;&lt;span&gt;Krishin Thadani\, OMS\, with the U.S. Small Business Ad
 ministration (SBA) will share his commercial lending knowledge and experi
 ence with small business owners and entrepreneurs. Chrystal Irons will hi
 ghlight SBDC programs and services for entrepreneurs. Representatives fro
 m the New Growth Women’s Business Center will be available to answer ques
 tions regarding personal credit and the WBC’s personal credit programs.&lt;b
 r&gt;&lt;br&gt;This course caters to both new and existing businesses with a focus
  on:&lt;br&gt;&lt;br&gt;• Those in search of credit&lt;br&gt;• Individuals looking to deepe
 n their understanding of the borrowing process&lt;/span&gt;&lt;/p&gt;&lt;/body&gt;&lt;/html&gt;
DTSTART;TZID=America/Chicago:20240430T133000
DTEND;TZID=America/Chicago:20240430T143000
SEQUENCE:1
URL:https://missouri.ecenterdirect.com/events/25100
CATEGORIES:Public
END:VEVENT
END:VCALENDAR