BEGIN:VCALENDAR
VERSION:2.0
METHOD:PUBLISH
PRODID:-//Missouri State University/Calendar of Events//EN
CALSCALE:GREGORIAN
X-WR-TIMEZONE:America/Chicago
BEGIN:VTIMEZONE
TZID:America/Chicago
BEGIN:DAYLIGHT
TZOFFSETFROM:-0600
TZOFFSETTO:-0500
DTSTART:20070311T020000
RRULE:FREQ=YEARLY;BYMONTH=3;BYDAY=2SU
TZNAME:CDT
END:DAYLIGHT
BEGIN:STANDARD
TZOFFSETFROM:-0500
TZOFFSETTO:-0600
DTSTART:20071104T020000
RRULE:FREQ=YEARLY;BYMONTH=11;BYDAY=1SU
TZNAME:CST
END:STANDARD
END:VTIMEZONE
BEGIN:VEVENT
UID:39c14968-c83b-408b-9c19-0e82512cd16b.234582@calendar.missouristate.edu
CREATED:20240307T213909Z
LAST-MODIFIED:20240307T213909Z
LOCATION:
SUMMARY:Omni Calendar Information session
DESCRIPTION:This session is intended for both existing and new editors. If
  you have attended one of the previous sessions\, much of the information
  will be similar. However\, this session will also cover updates to the t
 agging process\, which will be available in the training module and on th
 e missouristate.edu/web website. This session will cover:\n\n\n\nWhat to 
 expect\nHow to access training modules and documents\nProcess for creatin
 g events\nHow to get calendar access\nTimeline and launch process\n\nThis
  session will be conducted via Zoom. 
X-ALT-DESC;FMTTYPE=text/html:&lt;html&gt;&lt;head&gt;&lt;title&gt;&lt;/title&gt;&lt;/head&gt;&lt;body&gt;&lt;p&gt;&lt;s
 pan&gt;This session is intended for both existing and new editors. If you ha
 ve attended one of the previous sessions\, much of the information will b
 e similar. However\, this session will also cover updates to the tagging 
 process\, which will be available in the training module and on the misso
 uristate.edu/web website.&amp;nbsp\;This session will cover:&lt;/span&gt;&lt;/p&gt;\n&lt;ul 
 type="disc"&gt;\n&lt;li&gt;&lt;span&gt;What to expect&lt;/span&gt;&lt;/li&gt;\n&lt;li&gt;&lt;span&gt;How to acce
 ss training modules and documents&lt;/span&gt;&lt;/li&gt;\n&lt;li&gt;&lt;span&gt;Process for crea
 ting events&lt;/span&gt;&lt;/li&gt;\n&lt;li&gt;&lt;span&gt;How to get calendar access&lt;/span&gt;&lt;/li&gt;
 \n&lt;li&gt;&lt;span&gt;Timeline and launch process&lt;/span&gt;&lt;/li&gt;\n&lt;/ul&gt;\n&lt;p&gt;&lt;span&gt;This
  session will be conducted via &lt;a href="https://missouristate.zoom.us/j/9
 3645439896"&gt;Zoom&lt;/a&gt;.&amp;nbsp\;&lt;/span&gt;&lt;/p&gt;&lt;/body&gt;&lt;/html&gt;
DTSTART;TZID=America/Chicago:20240325T133000
DTEND;TZID=America/Chicago:20240325T143000
SEQUENCE:0
URL:
CATEGORIES:Faculty,Staff
END:VEVENT
END:VCALENDAR