BEGIN:VCALENDAR
VERSION:2.0
METHOD:PUBLISH
PRODID:-//Missouri State University/Calendar of Events//EN
CALSCALE:GREGORIAN
X-WR-TIMEZONE:America/Chicago
BEGIN:VTIMEZONE
TZID:America/Chicago
BEGIN:DAYLIGHT
TZOFFSETFROM:-0600
TZOFFSETTO:-0500
DTSTART:20070311T020000
RRULE:FREQ=YEARLY;BYMONTH=3;BYDAY=2SU
TZNAME:CDT
END:DAYLIGHT
BEGIN:STANDARD
TZOFFSETFROM:-0500
TZOFFSETTO:-0600
DTSTART:20071104T020000
RRULE:FREQ=YEARLY;BYMONTH=11;BYDAY=1SU
TZNAME:CST
END:STANDARD
END:VTIMEZONE
BEGIN:VEVENT
UID:d9a5afed-8604-4d14-8351-91df4f5e7f2d.234584@calendar.missouristate.edu
CREATED:20240309T185559Z
LAST-MODIFIED:20240309T185559Z
LOCATION:Plaster Student Union\, Robert W. Ballroom East
SUMMARY:Janet Wick’s Retirement Party 
DESCRIPTION:Mark your calendar to join us in celebrating the retirement of
  Janet Wicks\, department charge and supply coordinator at the Bookstore.
  Janet has been at the university for 44 years\, and all that time was de
 dicated to working in the Bookstore!\n\n\nWe plan to celebrate her many y
 ears of service on March 19. We hope you can join us to share kind words 
 and well wishes to Janet. We plan to share public comments at 2:30 p.m. C
 ongratulations\, Janet! We wish you all the best in your retirement.
X-ALT-DESC;FMTTYPE=text/html:&lt;html&gt;&lt;head&gt;&lt;title&gt;&lt;/title&gt;&lt;/head&gt;&lt;body&gt;&lt;p&gt;Ma
 rk your calendar to join us in celebrating the retirement of Janet Wicks\
 , department charge and supply coordinator at the Bookstore. Janet has be
 en at the university for 44 years\, and all that time was dedicated to wo
 rking in the Bookstore!&lt;/p&gt;\n&lt;p&gt;We plan to celebrate her many years of se
 rvice&amp;nbsp\;&lt;span dir="ltr"&gt;on March 19. &lt;/span&gt;We hope you can join us t
 o share kind words and well wishes to Janet. We plan to share public comm
 ents&amp;nbsp\;&lt;span dir="ltr"&gt;at 2:30 p.m&lt;/span&gt;. Congratulations\, Janet! W
 e wish you all the best in your retirement.&lt;/p&gt;&lt;/body&gt;&lt;/html&gt;
DTSTART;TZID=America/Chicago:20240319T140000
DTEND;TZID=America/Chicago:20240319T160000
SEQUENCE:0
URL:123178.jpg
CATEGORIES:Faculty,Staff
END:VEVENT
END:VCALENDAR