BEGIN:VCALENDAR
VERSION:2.0
METHOD:PUBLISH
PRODID:-//Missouri State University/Calendar of Events//EN
CALSCALE:GREGORIAN
X-WR-TIMEZONE:America/Chicago
BEGIN:VTIMEZONE
TZID:America/Chicago
BEGIN:DAYLIGHT
TZOFFSETFROM:-0600
TZOFFSETTO:-0500
DTSTART:20070311T020000
RRULE:FREQ=YEARLY;BYMONTH=3;BYDAY=2SU
TZNAME:CDT
END:DAYLIGHT
BEGIN:STANDARD
TZOFFSETFROM:-0500
TZOFFSETTO:-0600
DTSTART:20071104T020000
RRULE:FREQ=YEARLY;BYMONTH=11;BYDAY=1SU
TZNAME:CST
END:STANDARD
END:VTIMEZONE
BEGIN:VEVENT
UID:46ed0344-a353-4a4c-b2ce-dd2ae01fbe24.234590@calendar.missouristate.edu
CREATED:20240312T150732Z
LAST-MODIFIED:20240312T150732Z
LOCATION:Hammons Student Center\, John Q.
SUMMARY:52nd Annual Pummill Math Relays 2024
DESCRIPTION:For over 40 years\, high school students who love math have ga
 thered on the Missouri State University campus for a series of math compe
 titions known as the Pummill Math Relays.\n\n\n\n\n\nHeld each spring\, t
 he relays let high schoolers experience the university campus and allow s
 tudents the chance to assist with the competition\, which can provide val
 uable resume experience for aspiring math teachers and others.    
X-ALT-DESC;FMTTYPE=text/html:&lt;html&gt;&lt;head&gt;&lt;title&gt;&lt;/title&gt;&lt;/head&gt;&lt;body&gt;&lt;p&gt;Fo
 r over 40 years\, high school students who love math have gathered on the
  Missouri State University campus for a series of math competitions known
  as the Pummill Math Relays.&lt;/p&gt;\n&lt;p&gt;&lt;/p&gt;\n&lt;p&gt;Held each spring\, the rela
 ys let high schoolers experience the university campus and allow students
  the chance to assist with the competition\, which can provide valuable r
 esume experience for aspiring math teachers and others.&amp;nbsp\; &amp;nbsp\;&amp;nb
 sp\;&lt;/p&gt;\n&lt;p&gt;&lt;/p&gt;&lt;/body&gt;&lt;/html&gt;
DTSTART;TZID=America/Chicago:20240410T090000
DTEND;TZID=America/Chicago:20240410T130000
SEQUENCE:0
URL:https://math.missouristate.edu/relays.htm
CATEGORIES:Public,Alumni,Current Students,Future Students
END:VEVENT
END:VCALENDAR