BEGIN:VCALENDAR
VERSION:2.0
METHOD:PUBLISH
PRODID:-//Missouri State University/Calendar of Events//EN
CALSCALE:GREGORIAN
X-WR-TIMEZONE:America/Chicago
BEGIN:VTIMEZONE
TZID:America/Chicago
BEGIN:DAYLIGHT
TZOFFSETFROM:-0600
TZOFFSETTO:-0500
DTSTART:20070311T020000
RRULE:FREQ=YEARLY;BYMONTH=3;BYDAY=2SU
TZNAME:CDT
END:DAYLIGHT
BEGIN:STANDARD
TZOFFSETFROM:-0500
TZOFFSETTO:-0600
DTSTART:20071104T020000
RRULE:FREQ=YEARLY;BYMONTH=11;BYDAY=1SU
TZNAME:CST
END:STANDARD
END:VTIMEZONE
BEGIN:VEVENT
UID:cc8f926a-8e28-4548-bb4e-6329207ca683.234592@calendar.missouristate.edu
CREATED:20240313T203645Z
LAST-MODIFIED:20240313T203645Z
LOCATION:Meyer Library\, Duane G. 101
SUMMARY:Helen Turner Presents - "The Holocaust in the Heartland: Building 
 A Holocaust Museum in the Midwest"
DESCRIPTION:Helen Turner\, the director of education for the St. Louis Kap
 lan Feldman Holocaust Museum\, will visit Missouri State University to pr
 esent an interactive session that guides participants through the challen
 ges and opportunities encountered in the establishment of the Holocaust m
 useum in Missouri in 2022. Gain valuable insights into the contemporary l
 andscape of Holocaust education within museum settings\, exploring the dy
 namic nature of how we remember and learn from the past.\n\n\nTopics cove
 red include:\n\nChallenges and Triumphs: Delve into the unique obstacles 
 faced when creating a Holocaust museum in the heartland of America.\nCont
 emporary Education: Explore the evolution of Holocaust education within t
 he context of a modern museum setting.\nSignificance of Holocaust Educati
 on: Understand the crucial role of Holocaust education in fostering aware
 ness\, empathy and remembrance.\nCharting the Future: Join Turner in cont
 emplating the future of Holocaust education and its impact on generations
  to come.\n\nBenefits of attending:\n\nInsightful Perspectives: Gain a de
 eper understanding of the complexities surrounding Holocaust education.\n
 Engaging Dialogue: Participate in an interactive discussion on the import
 ance of preserving historical narratives.\nCommunity Connection: Connect 
 with like-minded individuals passionate about preserving and sharing hist
 ory.
X-ALT-DESC;FMTTYPE=text/html:&lt;html&gt;&lt;head&gt;&lt;title&gt;&lt;/title&gt;&lt;/head&gt;&lt;body&gt;&lt;p&gt;He
 len Turner\, the director of education for the St. Louis Kaplan Feldman H
 olocaust Museum\, will visit Missouri State University to present an inte
 ractive session that guides participants through the challenges and oppor
 tunities encountered in the establishment of the Holocaust museum in Miss
 ouri in 2022. Gain valuable insights into the contemporary landscape of H
 olocaust education within museum settings\, exploring the dynamic nature 
 of how we remember and learn from the past.&lt;/p&gt;\n&lt;h4&gt;Topics covered inclu
 de:&lt;/h4&gt;\n&lt;ul type="disc"&gt;\n&lt;li&gt;Challenges and Triumphs: Delve into the u
 nique obstacles faced when creating a Holocaust museum in the heartland o
 f America.&lt;/li&gt;\n&lt;li&gt;Contemporary Education: Explore the evolution of Hol
 ocaust education within the context of a modern museum setting.&lt;/li&gt;\n&lt;li
 &gt;Significance of Holocaust Education: Understand the crucial role of Holo
 caust education in fostering awareness\, empathy and remembrance.&lt;/li&gt;\n&lt;
 li&gt;Charting the Future: Join Turner in contemplating the future of Holoca
 ust education and its impact on generations to come.&lt;/li&gt;\n&lt;/ul&gt;\n&lt;h4&gt;Ben
 efits of attending:&lt;/h4&gt;\n&lt;ul type="disc"&gt;\n&lt;li&gt;Insightful Perspectives: 
 Gain a deeper understanding of the complexities surrounding Holocaust edu
 cation.&lt;/li&gt;\n&lt;li&gt;Engaging Dialogue: Participate in an interactive discus
 sion on the importance of preserving historical narratives.&lt;/li&gt;\n&lt;li&gt;Com
 munity Connection: Connect with like-minded individuals passionate about 
 preserving and sharing history.&lt;/li&gt;\n&lt;/ul&gt;&lt;/body&gt;&lt;/html&gt;
DTSTART;TZID=America/Chicago:20240326T160000
DTEND;TZID=America/Chicago:20240326T170000
SEQUENCE:0
URL:https://publicaffairs.missouristate.edu/events.htm
CATEGORIES:Public,Alumni,Current Students,Faculty,Future Students,Staff
END:VEVENT
END:VCALENDAR