BEGIN:VCALENDAR
VERSION:2.0
METHOD:PUBLISH
PRODID:-//Missouri State University/Calendar of Events//EN
CALSCALE:GREGORIAN
X-WR-TIMEZONE:America/Chicago
BEGIN:VTIMEZONE
TZID:America/Chicago
BEGIN:DAYLIGHT
TZOFFSETFROM:-0600
TZOFFSETTO:-0500
DTSTART:20070311T020000
RRULE:FREQ=YEARLY;BYMONTH=3;BYDAY=2SU
TZNAME:CDT
END:DAYLIGHT
BEGIN:STANDARD
TZOFFSETFROM:-0500
TZOFFSETTO:-0600
DTSTART:20071104T020000
RRULE:FREQ=YEARLY;BYMONTH=11;BYDAY=1SU
TZNAME:CST
END:STANDARD
END:VTIMEZONE
BEGIN:VEVENT
UID:11a0d888-2622-4a0b-aedc-ba7cea54738d.234594@calendar.missouristate.edu
CREATED:20240314T010808Z
LAST-MODIFIED:20240314T010808Z
LOCATION:Plaster Student Union\, Robert W. North Mall
SUMMARY:Missouri State University Birthday Party
DESCRIPTION:Missouri State is celebrating 119 years! Join us for the Carni
 val themed Birthday Party.\n\n\nThere will be free food\, balloon animals
 \, face painting\, inflatables\, the 2024 Be A Bear T-shirt\, and more. M
 ake sure to stop by around noon to hear a few words from President Clif S
 mart.\n\n\nYou won't want to miss this! 
X-ALT-DESC;FMTTYPE=text/html:&lt;html&gt;&lt;head&gt;&lt;title&gt;&lt;/title&gt;&lt;/head&gt;&lt;body&gt;&lt;p&gt;Mi
 ssouri State is celebrating 119 years! Join us for the Carnival themed Bi
 rthday Party.&lt;/p&gt;\n&lt;p&gt;There will be free food\, balloon animals\, face pa
 inting\, inflatables\,&amp;nbsp\;the 2024 Be A Bear T-shirt\, and&amp;nbsp\;more.
  Make sure to stop by around noon to hear a few words from President Clif
  Smart.&lt;/p&gt;\n&lt;p&gt;You won't want to miss this!&amp;nbsp\;&lt;/p&gt;&lt;/body&gt;&lt;/html&gt;
DTSTART;TZID=America/Chicago:20240320T110000
DTEND;TZID=America/Chicago:20240320T150000
SEQUENCE:0
URL:123187.jpg
CATEGORIES:Alumni,Current Students,Faculty,Staff
END:VEVENT
END:VCALENDAR