BEGIN:VCALENDAR
VERSION:2.0
METHOD:PUBLISH
PRODID:-//Missouri State University/Calendar of Events//EN
CALSCALE:GREGORIAN
X-WR-TIMEZONE:America/Chicago
BEGIN:VTIMEZONE
TZID:America/Chicago
BEGIN:DAYLIGHT
TZOFFSETFROM:-0600
TZOFFSETTO:-0500
DTSTART:20070311T020000
RRULE:FREQ=YEARLY;BYMONTH=3;BYDAY=2SU
TZNAME:CDT
END:DAYLIGHT
BEGIN:STANDARD
TZOFFSETFROM:-0500
TZOFFSETTO:-0600
DTSTART:20071104T020000
RRULE:FREQ=YEARLY;BYMONTH=11;BYDAY=1SU
TZNAME:CST
END:STANDARD
END:VTIMEZONE
BEGIN:VEVENT
UID:f2d6e682-4198-4f42-990d-003a972430a3.234595@calendar.missouristate.edu
CREATED:20240313T213355Z
LAST-MODIFIED:20240313T213355Z
LOCATION:Plaster Stadium\, Robert W.
SUMMARY:Grad Bash 2024
DESCRIPTION:Celebrate your accomplishments at Grad Bash 2024!\n\n\nGrad Ba
 sh is one big party\, just for graduating seniors. Get your free food\, b
 eer and Andy's Frozen Custard. \n\n\nParty hard with outdoor games and in
 flatables\, and dance your heart out with DJ Platinum.\n\n\nTo receive a 
 limited edition MSU Grad Bash commemorative mug and your donor cord*\, ma
 ke your Senior Class Gift of $20.24 as a donation to your area of choice 
 on campus.\n\n\n*Donor cords and commemorative mugs must be picked up at 
 Grad Bash event. 
X-ALT-DESC;FMTTYPE=text/html:&lt;html&gt;&lt;head&gt;&lt;title&gt;&lt;/title&gt;&lt;/head&gt;&lt;body&gt;&lt;p&gt;&lt;s
 pan&gt;Celebrate your accomplishments at Grad Bash 2024!&lt;/span&gt;&lt;/p&gt;\n&lt;p&gt;&lt;spa
 n&gt;Grad Bash is one big party\,&amp;nbsp\;just for graduating seniors. Get you
 r free food\, beer and Andy's Frozen Custard. &lt;/span&gt;&lt;/p&gt;\n&lt;p&gt;&lt;span&gt;Party
  hard with outdoor games and inflatables\, and dance your heart out with 
 DJ Platinum.&lt;/span&gt;&lt;/p&gt;\n&lt;p&gt;&lt;span&gt;To receive a limited edition MSU Grad B
 ash commemorative mug and your donor cord*\,&amp;nbsp\;make your&amp;nbsp\;&lt;a hre
 f="https://crowdfunding.missouristate.edu/project/40284" target="_blank"&gt;
 Senior Class Gift&lt;/a&gt; of $20.24 as a donation to your area of choice on c
 ampus.&lt;/span&gt;&lt;/p&gt;\n&lt;p&gt;&lt;span&gt;*Donor cords and commemorative mugs must be p
 icked up at Grad Bash event.&amp;nbsp\;&lt;/span&gt;&lt;/p&gt;&lt;/body&gt;&lt;/html&gt;
DTSTART;TZID=America/Chicago:20240509T140000
DTEND;TZID=America/Chicago:20240509T160000
SEQUENCE:0
URL:123188.png
CATEGORIES:Current Students
END:VEVENT
END:VCALENDAR