BEGIN:VCALENDAR
VERSION:2.0
METHOD:PUBLISH
PRODID:-//Missouri State University/Calendar of Events//EN
CALSCALE:GREGORIAN
X-WR-TIMEZONE:America/Chicago
BEGIN:VTIMEZONE
TZID:America/Chicago
BEGIN:DAYLIGHT
TZOFFSETFROM:-0600
TZOFFSETTO:-0500
DTSTART:20070311T020000
RRULE:FREQ=YEARLY;BYMONTH=3;BYDAY=2SU
TZNAME:CDT
END:DAYLIGHT
BEGIN:STANDARD
TZOFFSETFROM:-0500
TZOFFSETTO:-0600
DTSTART:20071104T020000
RRULE:FREQ=YEARLY;BYMONTH=11;BYDAY=1SU
TZNAME:CST
END:STANDARD
END:VTIMEZONE
BEGIN:VEVENT
UID:74b2fc82-8081-4ce2-9f65-addbbddaef86.234596@calendar.missouristate.edu
CREATED:20240314T143440Z
LAST-MODIFIED:20240314T143440Z
LOCATION:Plaster Student Union\, Robert W. 0220 Food Court
SUMMARY:Careers in Aging BINGO
DESCRIPTION:Come learn more about careers in aging by playing BINGO with G
 ER Club members and Gerontology Program faculty. We will be in the PSU Fo
 od Court (near Subway) from 4-6 PM. There will be prizes!
X-ALT-DESC;FMTTYPE=text/html:&lt;html&gt;&lt;head&gt;&lt;title&gt;&lt;/title&gt;&lt;/head&gt;&lt;body&gt;&lt;p&gt;Co
 me learn more about careers in aging by playing BINGO with GER Club membe
 rs and Gerontology Program faculty. We will be in the PSU Food Court (nea
 r Subway) from 4-6 PM. There will be prizes!&lt;/p&gt;&lt;/body&gt;&lt;/html&gt;
DTSTART;TZID=America/Chicago:20240320T160000
DTEND;TZID=America/Chicago:20240320T180000
SEQUENCE:0
URL:
CATEGORIES:Current Students,Faculty,Staff
END:VEVENT
END:VCALENDAR