BEGIN:VCALENDAR
VERSION:2.0
METHOD:PUBLISH
PRODID:-//Missouri State University/Calendar of Events//EN
CALSCALE:GREGORIAN
X-WR-TIMEZONE:America/Chicago
BEGIN:VTIMEZONE
TZID:America/Chicago
BEGIN:DAYLIGHT
TZOFFSETFROM:-0600
TZOFFSETTO:-0500
DTSTART:20070311T020000
RRULE:FREQ=YEARLY;BYMONTH=3;BYDAY=2SU
TZNAME:CDT
END:DAYLIGHT
BEGIN:STANDARD
TZOFFSETFROM:-0500
TZOFFSETTO:-0600
DTSTART:20071104T020000
RRULE:FREQ=YEARLY;BYMONTH=11;BYDAY=1SU
TZNAME:CST
END:STANDARD
END:VTIMEZONE
BEGIN:VEVENT
UID:00000000-0000-0000-0000-000000000000.234599@calendar.missouristate.edu
CREATED:20240314T184504Z
LAST-MODIFIED:20240314T184504Z
LOCATION:To Be Determined
SUMMARY:Planned Giving Seminar
DESCRIPTION:The Missouri State University Foundation is hosting a planned 
 giving seminar on March 21. Hear from Emily Kembell\, partner at Kirkland
  Woods &amp; Martinsen LLP\, and learn the benefits of gift planning\, answer
  any questions you may have and discover how you can help support Missour
 i State through planned giving.
X-ALT-DESC;FMTTYPE=text/html:&lt;html&gt;&lt;head&gt;&lt;title&gt;&lt;/title&gt;&lt;/head&gt;&lt;body&gt;&lt;p&gt;Th
 e Missouri State University Foundation is hosting a planned giving semina
 r on March 21. Hear from Emily Kembell\, partner at Kirkland Woods &amp;amp\;
  Martinsen LLP\, and learn the benefits of gift planning\, answer any que
 stions you may have and discover how you can help support Missouri State 
 through planned giving.&lt;/p&gt;&lt;/body&gt;&lt;/html&gt;
DTSTART;TZID=America/Chicago:20240321T100000
DTEND;TZID=America/Chicago:20240321T110000
SEQUENCE:0
URL:https://missouristate.imodules.com?sid=1691&amp;gid=2&amp;pgid=3608&amp;cid=6368&amp;e
 cid=6368&amp;ciid=22239&amp;crid=0
CATEGORIES:Public,Alumni,Parents and Family,Visitors
END:VEVENT
END:VCALENDAR