BEGIN:VCALENDAR
VERSION:2.0
METHOD:PUBLISH
PRODID:-//Missouri State University/Calendar of Events//EN
CALSCALE:GREGORIAN
X-WR-TIMEZONE:America/Chicago
BEGIN:VTIMEZONE
TZID:America/Chicago
BEGIN:DAYLIGHT
TZOFFSETFROM:-0600
TZOFFSETTO:-0500
DTSTART:20070311T020000
RRULE:FREQ=YEARLY;BYMONTH=3;BYDAY=2SU
TZNAME:CDT
END:DAYLIGHT
BEGIN:STANDARD
TZOFFSETFROM:-0500
TZOFFSETTO:-0600
DTSTART:20071104T020000
RRULE:FREQ=YEARLY;BYMONTH=11;BYDAY=1SU
TZNAME:CST
END:STANDARD
END:VTIMEZONE
BEGIN:VEVENT
UID:f80c4ad2-2294-4859-8c1c-37a84db5a64e.234603@calendar.missouristate.edu
CREATED:20240327T193405Z
LAST-MODIFIED:20240327T193405Z
LOCATION:Glass Hall\, David D. 486
SUMMARY:Marketing Your Education Abroad
DESCRIPTION:International Business Programs\, together with the Office of 
 Education Abroad\, invites all education abroad alumni and prospective in
 ternational Bears to join us for a workshop on marketing your education a
 broad experience. \n\n\nEmployers are seeking graduates who have increase
 d multicultural sensitivity and direct experience working with people fro
 m diverse backgrounds. Furthermore\, education abroad students develop a 
 unique set of professional skills that can be valuable in today's job mar
 ket. Work directly with Career Center professionals to learn how to lever
 age your education abroad experience on your resume and in the job interv
 iew setting. \n\n\nPizza and drinks provided. \n\n\nPlease RSVP by April 
 17. 
X-ALT-DESC;FMTTYPE=text/html:&lt;html&gt;&lt;head&gt;&lt;title&gt;&lt;/title&gt;&lt;/head&gt;&lt;body&gt;&lt;p&gt;In
 ternational Business Programs\, together with the Office of Education Abr
 oad\, invites all education abroad alumni and prospective international B
 ears&amp;nbsp\;to join us for a workshop on marketing your education abroad e
 xperience.&amp;nbsp\;&lt;/p&gt;\n&lt;p&gt;Employers are seeking graduates who have increa
 sed multicultural sensitivity and direct experience working with people f
 rom diverse backgrounds. Furthermore\, education abroad students develop 
 a unique set of professional skills that can be valuable in today's job m
 arket. Work directly with Career Center professionals to learn how to lev
 erage your education abroad experience on your resume and in the job inte
 rview setting.&amp;nbsp\;&lt;/p&gt;\n&lt;p&gt;Pizza and drinks provided.&amp;nbsp\;&lt;/p&gt;\n&lt;p&gt;P
 lease&amp;nbsp\;&lt;a href="https://missouristate.co1.qualtrics.com/jfe/form/SV_
 cU6ik7Qk6ytViV8"&gt;RSVP&lt;/a&gt; by April 17.&amp;nbsp\;&lt;/p&gt;&lt;/body&gt;&lt;/html&gt;
DTSTART;TZID=America/Chicago:20240424T170000
DTEND;TZID=America/Chicago:20240424T183000
SEQUENCE:0
URL:http://ibp.missouristate.edu
CATEGORIES:Alumni,Current Students
END:VEVENT
END:VCALENDAR