BEGIN:VCALENDAR
VERSION:2.0
METHOD:PUBLISH
PRODID:-//Missouri State University/Calendar of Events//EN
CALSCALE:GREGORIAN
X-WR-TIMEZONE:America/Chicago
BEGIN:VTIMEZONE
TZID:America/Chicago
BEGIN:DAYLIGHT
TZOFFSETFROM:-0600
TZOFFSETTO:-0500
DTSTART:20070311T020000
RRULE:FREQ=YEARLY;BYMONTH=3;BYDAY=2SU
TZNAME:CDT
END:DAYLIGHT
BEGIN:STANDARD
TZOFFSETFROM:-0500
TZOFFSETTO:-0600
DTSTART:20071104T020000
RRULE:FREQ=YEARLY;BYMONTH=11;BYDAY=1SU
TZNAME:CST
END:STANDARD
END:VTIMEZONE
BEGIN:VEVENT
UID:00000000-0000-0000-0000-000000000000.234604@calendar.missouristate.edu
CREATED:20240318T194535Z
LAST-MODIFIED:20240318T194535Z
LOCATION:To Be Determined
SUMMARY:Bears of Distinction 2024
DESCRIPTION:Join University President Clif Smart and the Missouri State Un
 iversity Alumni Association Board of Directors at the annual Bears of Dis
 tinction Dinner and Awards Ceremony. Awards of special recognition will b
 e presented to distinguished alumni and former MSU faculty and staff.
X-ALT-DESC;FMTTYPE=text/html:&lt;html&gt;&lt;head&gt;&lt;title&gt;&lt;/title&gt;&lt;/head&gt;&lt;body&gt;Join 
 University President Clif Smart and the Missouri State University Alumni 
 Association Board of Directors at the annual Bears of Distinction Dinner 
 and Awards Ceremony. Awards of special recognition will be presented to d
 istinguished alumni and former MSU faculty and staff.&lt;/body&gt;&lt;/html&gt;
DTSTART;TZID=America/Chicago:20240420T180000
DTEND;TZID=America/Chicago:20240420T203000
SEQUENCE:0
URL:https://missouristate.imodules.com?sid=1691&amp;gid=2&amp;pgid=3660&amp;cid=6439&amp;e
 cid=6439&amp;ciid=22492&amp;crid=0
CATEGORIES:Public,Alumni,Parents and Family,Visitors
END:VEVENT
END:VCALENDAR