BEGIN:VCALENDAR
VERSION:2.0
METHOD:PUBLISH
PRODID:-//Missouri State University/Calendar of Events//EN
CALSCALE:GREGORIAN
X-WR-TIMEZONE:America/Chicago
BEGIN:VTIMEZONE
TZID:America/Chicago
BEGIN:DAYLIGHT
TZOFFSETFROM:-0600
TZOFFSETTO:-0500
DTSTART:20070311T020000
RRULE:FREQ=YEARLY;BYMONTH=3;BYDAY=2SU
TZNAME:CDT
END:DAYLIGHT
BEGIN:STANDARD
TZOFFSETFROM:-0500
TZOFFSETTO:-0600
DTSTART:20071104T020000
RRULE:FREQ=YEARLY;BYMONTH=11;BYDAY=1SU
TZNAME:CST
END:STANDARD
END:VTIMEZONE
BEGIN:VEVENT
UID:00000000-0000-0000-0000-000000000000.234605@calendar.missouristate.edu
CREATED:20240319T134535Z
LAST-MODIFIED:20240319T134535Z
LOCATION:To Be Determined
SUMMARY:Women's Soccer Cornhole Tournament
DESCRIPTION:Join fellow Missouri State Bears alumni\, fans and friends for
  a cornhole tournament at Hammons Student Center. Enjoy food\, fun and a 
 guaranteed 3-4 games per team of two.
X-ALT-DESC;FMTTYPE=text/html:&lt;html&gt;&lt;head&gt;&lt;title&gt;&lt;/title&gt;&lt;/head&gt;&lt;body&gt;Join 
 fellow Missouri State Bears alumni\, fans and friends for a cornhole tour
 nament at Hammons Student Center. Enjoy food\, fun and a guaranteed 3-4 g
 ames per team of two.&lt;/body&gt;&lt;/html&gt;
DTSTART;TZID=America/Chicago:20240405T150000
DTEND;TZID=America/Chicago:20240405T190000
SEQUENCE:0
URL:https://missouristate.imodules.com?sid=1691&amp;gid=2&amp;pgid=3672&amp;cid=6456&amp;e
 cid=6456&amp;ciid=22299&amp;crid=0
CATEGORIES:Public,Alumni,Parents and Family,Visitors
END:VEVENT
END:VCALENDAR