BEGIN:VCALENDAR
VERSION:2.0
METHOD:PUBLISH
PRODID:-//Missouri State University/Calendar of Events//EN
CALSCALE:GREGORIAN
X-WR-TIMEZONE:America/Chicago
BEGIN:VTIMEZONE
TZID:America/Chicago
BEGIN:DAYLIGHT
TZOFFSETFROM:-0600
TZOFFSETTO:-0500
DTSTART:20070311T020000
RRULE:FREQ=YEARLY;BYMONTH=3;BYDAY=2SU
TZNAME:CDT
END:DAYLIGHT
BEGIN:STANDARD
TZOFFSETFROM:-0500
TZOFFSETTO:-0600
DTSTART:20071104T020000
RRULE:FREQ=YEARLY;BYMONTH=11;BYDAY=1SU
TZNAME:CST
END:STANDARD
END:VTIMEZONE
BEGIN:VEVENT
UID:a91ddd14-500c-4218-9ace-a69a72642407_11156@calendar.missouristate.edu
CREATED:20240319T155553Z
LAST-MODIFIED:20240319T155553Z
LOCATION:
SUMMARY:Annual Juried Student Exhibition at the Carolla Arts Exhibition Ce
 nter
DESCRIPTION:The Annual Juried Student Exhibition features work from the br
 eadth of our department’s undergraduate and graduate students. Juried by 
 Kansas City-based artist\, Steve Snell\, we are also excited continue the
  legacy of Mark J Hall with the Mark J Hall Best in Show Award\, in addit
 ion to many other monetary awards.\n\n\nThis exhibition will be open Marc
 h 25 - April 12. We will celebrate students with work in the exhibit duri
 ng First Friday Art Walk\, April 5 from 6-9 pm.
X-ALT-DESC;FMTTYPE=text/html:&lt;html&gt;&lt;head&gt;&lt;title&gt;&lt;/title&gt;&lt;/head&gt;&lt;body&gt;&lt;p&gt;Th
 e Annual Juried Student Exhibition features work from the breadth of our 
 department’s undergraduate and graduate students. Juried by Kansas City-b
 ased artist\, Steve Snell\, we are also excited continue the legacy of Ma
 rk J Hall with the Mark J Hall Best in Show Award\, in addition to many o
 ther monetary awards.&lt;/p&gt;\n&lt;p&gt;This exhibition will be open March 25 - Apr
 il 12. We will celebrate students with work in the exhibit during First F
 riday Art Walk\, April 5 from 6-9 pm.&lt;/p&gt;&lt;/body&gt;&lt;/html&gt;
DTSTART;TZID=America/Chicago:20240325T110000
DTEND;TZID=America/Chicago:20240325T180000
RRULE:FREQ=WEEKLY;BYDAY=MO,TU,WE,TH,FR;UNTIL=20240413
SEQUENCE:0
URL:https://galleries.missouristate.edu/Carolla
CATEGORIES:Public,Alumni,Current Students,Faculty,Future Students,Staff
END:VEVENT
BEGIN:VEVENT
UID:a91ddd14-500c-4218-9ace-a69a72642407.234622@calendar.missouristate.edu
CREATED:20240319T155553Z
LAST-MODIFIED:20240319T155553Z
LOCATION:
SUMMARY:Annual Juried Student Exhibition at the Carolla Arts Exhibition Ce
 nter
DESCRIPTION:The Annual Juried Student Exhibition features work from the br
 eadth of our department’s undergraduate and graduate students. Juried by 
 Kansas City-based artist\, Steve Snell\, we are also excited continue the
  legacy of Mark J Hall with the Mark J Hall Best in Show Award\, in addit
 ion to many other monetary awards.\n\n\nThis exhibition will be open Marc
 h 25 - April 12. We will celebrate students with work in the exhibit duri
 ng First Friday Art Walk\, April 5 from 6-9 pm.
X-ALT-DESC;FMTTYPE=text/html:&lt;html&gt;&lt;head&gt;&lt;title&gt;&lt;/title&gt;&lt;/head&gt;&lt;body&gt;&lt;p&gt;Th
 e Annual Juried Student Exhibition features work from the breadth of our 
 department’s undergraduate and graduate students. Juried by Kansas City-b
 ased artist\, Steve Snell\, we are also excited continue the legacy of Ma
 rk J Hall with the Mark J Hall Best in Show Award\, in addition to many o
 ther monetary awards.&lt;/p&gt;\n&lt;p&gt;This exhibition will be open March 25 - Apr
 il 12. We will celebrate students with work in the exhibit during First F
 riday Art Walk\, April 5 from 6-9 pm.&lt;/p&gt;&lt;/body&gt;&lt;/html&gt;
DTSTART;TZID=America/Chicago:20240405T180000
DTEND;TZID=America/Chicago:20240405T210000
SEQUENCE:0
URL:https://galleries.missouristate.edu/Carolla
CATEGORIES:Public,Alumni,Current Students,Faculty,Future Students,Staff
END:VEVENT
END:VCALENDAR