BEGIN:VCALENDAR
VERSION:2.0
METHOD:PUBLISH
PRODID:-//Missouri State University/Calendar of Events//EN
CALSCALE:GREGORIAN
X-WR-TIMEZONE:America/Chicago
BEGIN:VTIMEZONE
TZID:America/Chicago
BEGIN:DAYLIGHT
TZOFFSETFROM:-0600
TZOFFSETTO:-0500
DTSTART:20070311T020000
RRULE:FREQ=YEARLY;BYMONTH=3;BYDAY=2SU
TZNAME:CDT
END:DAYLIGHT
BEGIN:STANDARD
TZOFFSETFROM:-0500
TZOFFSETTO:-0600
DTSTART:20071104T020000
RRULE:FREQ=YEARLY;BYMONTH=11;BYDAY=1SU
TZNAME:CST
END:STANDARD
END:VTIMEZONE
BEGIN:VEVENT
UID:00000000-0000-0000-0000-000000000000.234623@calendar.missouristate.edu
CREATED:20240319T164726Z
LAST-MODIFIED:20240319T164726Z
LOCATION:To Be Determined
SUMMARY:Chicago Alumni Gathering
DESCRIPTION:Missouri State University alumni and friends are invited to a 
 casual Chicago gathering on Saturday\, April 13 at Weber Grill.
X-ALT-DESC;FMTTYPE=text/html:&lt;html&gt;&lt;head&gt;&lt;title&gt;&lt;/title&gt;&lt;/head&gt;&lt;body&gt;Misso
 uri State University alumni and friends are invited to a casual Chicago g
 athering on Saturday\, April 13 at Weber Grill.&lt;/body&gt;&lt;/html&gt;
DTSTART;TZID=America/Chicago:20240413T160000
DTEND;TZID=America/Chicago:20240413T180000
SEQUENCE:0
URL:https://missouristate.imodules.com?sid=1691&amp;gid=2&amp;pgid=3648&amp;cid=6423&amp;e
 cid=6423&amp;ciid=22529&amp;crid=0
CATEGORIES:Public,Alumni,Parents and Family,Visitors
END:VEVENT
END:VCALENDAR