BEGIN:VCALENDAR
VERSION:2.0
METHOD:PUBLISH
PRODID:-//Missouri State University/Calendar of Events//EN
CALSCALE:GREGORIAN
X-WR-TIMEZONE:America/Chicago
BEGIN:VTIMEZONE
TZID:America/Chicago
BEGIN:DAYLIGHT
TZOFFSETFROM:-0600
TZOFFSETTO:-0500
DTSTART:20070311T020000
RRULE:FREQ=YEARLY;BYMONTH=3;BYDAY=2SU
TZNAME:CDT
END:DAYLIGHT
BEGIN:STANDARD
TZOFFSETFROM:-0500
TZOFFSETTO:-0600
DTSTART:20071104T020000
RRULE:FREQ=YEARLY;BYMONTH=11;BYDAY=1SU
TZNAME:CST
END:STANDARD
END:VTIMEZONE
BEGIN:VEVENT
UID:e87801bc-b2be-4b46-9d26-ece1a4482fa5.234624@calendar.missouristate.edu
CREATED:20240320T152236Z
LAST-MODIFIED:20240320T152236Z
LOCATION:Morris Center\, Jim D. First Floor Lobby
SUMMARY:International ArtWalk Game Night
DESCRIPTION:Join us for a fun International Game Night! Embrace the divers
 ity of cultures as we celebrate the joy of different games from around th
 e world. Students are going to bring games representative of their countr
 ies\, whether it's board games\, puzzle games\, or any other intriguing g
 ame they'd like to share. Pizza will also be included!
X-ALT-DESC;FMTTYPE=text/html:&lt;html&gt;&lt;head&gt;&lt;title&gt;&lt;/title&gt;&lt;/head&gt;&lt;body&gt;&lt;p&gt;&lt;s
 pan&gt;Join us for a fun International Game Night! Embrace the diversity of 
 cultures as we celebrate the joy of different games from around the world
 . Students are going to bring games representative of their countries\, w
 hether it's board games\, puzzle games\, or any other intriguing game the
 y'd like to share. Pizza will also be included!&lt;/span&gt;&lt;/p&gt;&lt;/body&gt;&lt;/html&gt;
DTSTART;TZID=America/Chicago:20240405T170000
DTEND;TZID=America/Chicago:20240405T193000
SEQUENCE:0
URL:
CATEGORIES:Public,Alumni,Current Students,Faculty,Future Students,Staff
END:VEVENT
END:VCALENDAR