BEGIN:VCALENDAR
VERSION:2.0
METHOD:PUBLISH
PRODID:-//Missouri State University/Calendar of Events//EN
CALSCALE:GREGORIAN
X-WR-TIMEZONE:America/Chicago
BEGIN:VTIMEZONE
TZID:America/Chicago
BEGIN:DAYLIGHT
TZOFFSETFROM:-0600
TZOFFSETTO:-0500
DTSTART:20070311T020000
RRULE:FREQ=YEARLY;BYMONTH=3;BYDAY=2SU
TZNAME:CDT
END:DAYLIGHT
BEGIN:STANDARD
TZOFFSETFROM:-0500
TZOFFSETTO:-0600
DTSTART:20071104T020000
RRULE:FREQ=YEARLY;BYMONTH=11;BYDAY=1SU
TZNAME:CST
END:STANDARD
END:VTIMEZONE
BEGIN:VEVENT
UID:64aedd46-e645-4572-8c44-d642b7d33e54.234635@calendar.missouristate.edu
CREATED:20240326T183315Z
LAST-MODIFIED:20240326T183315Z
LOCATION:Hill Hall 0002
SUMMARY:Computer Science Seminar - Dr. Chi-Ren Shyu
DESCRIPTION:Explainable and Actionable Artificial Intelligence for Social 
 Good - Cancer Drug Discovery\, One Health and Local News Coverage\n\n\nIn
  his talk\, Dr. Shyu will introduce an eXplainable and act(X)ionable arti
 ficial intelligence framework that is designed to ensure AI fairness to a
 ddress issues related to sub-populations and offer tailored solutions. He
  will discuss case studies using the X(squared)AI concept in drug reposit
 ioning for cancers\, one health in biosecurity\, and local news coverage 
 to better serve underserved populations.\n\n\nDr. Chi-Ren Shyu is the Pau
 l K. and Dianne Shumaker Professor for Biomedical Informatics and the fou
 nding Director of the University of Missouri Institute for Data Science a
 nd Informatics (MU IDSI).
X-ALT-DESC;FMTTYPE=text/html:&lt;html&gt;&lt;head&gt;&lt;title&gt;&lt;/title&gt;&lt;/head&gt;&lt;body&gt;&lt;p&gt;&lt;s
 trong&gt;Explainable and Actionable Artificial Intelligence for Social Good 
 - Cancer Drug Discovery\, One Health and Local News Coverage&lt;/strong&gt;&lt;/p&gt;
 \n&lt;p&gt;In his talk\, Dr. Shyu will introduce an eXplainable and act(X)ionab
 le artificial intelligence framework that is designed to ensure AI fairne
 ss to address issues related to sub-populations and offer tailored soluti
 ons. He will discuss case studies using the X(squared)AI concept in drug 
 repositioning for cancers\, one health in biosecurity\, and local news co
 verage to better serve underserved populations.&lt;/p&gt;\n&lt;p&gt;Dr. Chi-Ren Shyu 
 is the Paul K. and Dianne Shumaker Professor for Biomedical Informatics a
 nd the founding Director of the University of Missouri Institute for Data
  Science and Informatics (MU IDSI).&lt;/p&gt;&lt;/body&gt;&lt;/html&gt;
DTSTART;TZID=America/Chicago:20240419T111500
DTEND;TZID=America/Chicago:20240419T121500
SEQUENCE:0
URL:
CATEGORIES:Current Students,Faculty,Staff
END:VEVENT
END:VCALENDAR