BEGIN:VCALENDAR
VERSION:2.0
METHOD:PUBLISH
PRODID:-//Missouri State University/Calendar of Events//EN
CALSCALE:GREGORIAN
X-WR-TIMEZONE:America/Chicago
BEGIN:VTIMEZONE
TZID:America/Chicago
BEGIN:DAYLIGHT
TZOFFSETFROM:-0600
TZOFFSETTO:-0500
DTSTART:20070311T020000
RRULE:FREQ=YEARLY;BYMONTH=3;BYDAY=2SU
TZNAME:CDT
END:DAYLIGHT
BEGIN:STANDARD
TZOFFSETFROM:-0500
TZOFFSETTO:-0600
DTSTART:20071104T020000
RRULE:FREQ=YEARLY;BYMONTH=11;BYDAY=1SU
TZNAME:CST
END:STANDARD
END:VTIMEZONE
BEGIN:VEVENT
UID:810b4ea1-45f3-4a05-bea2-3e1b0de8c8fc.234637@calendar.missouristate.edu
CREATED:20240326T215343Z
LAST-MODIFIED:20240326T215343Z
LOCATION:Plaster Student Union\, Robert W. Ballroom
SUMMARY:Academic Connection Fair
DESCRIPTION:Explore opportunities as you build your degree program (Majors
  - Minors - Undergraduate Certificates)\n\n\nConnect with people from you
 r academic college and department \nLearn about campus resources availabl
 e to help you succeed\n\n\n\n\n 
X-ALT-DESC;FMTTYPE=text/html:&lt;html&gt;&lt;head&gt;&lt;title&gt;&lt;/title&gt;&lt;/head&gt;&lt;body&gt;&lt;ul&gt;\
 n&lt;li&gt;&lt;span&gt;Explore opportunities as you build your degree program&amp;nbsp\;&lt;
 /span&gt;(Majors - Minors - Undergraduate Certificates)&lt;/li&gt;\n&lt;/ul&gt;\n&lt;ul&gt;\n&lt;
 li&gt;&lt;span&gt;Connect with people from your academic college and department&lt;/s
 pan&gt;&amp;nbsp\;&lt;/li&gt;\n&lt;li&gt;&lt;span&gt;Learn about campus resources available to hel
 p you succeed&lt;/span&gt;&lt;/li&gt;\n&lt;/ul&gt;\n&lt;p&gt;&lt;/p&gt;\n&lt;p&gt;&lt;span lang="en-US"&gt;&amp;nbsp\;&lt;
 /span&gt;&lt;/p&gt;&lt;/body&gt;&lt;/html&gt;
DTSTART;TZID=America/Chicago:20240918T090000
DTEND;TZID=America/Chicago:20240918T150000
SEQUENCE:0
URL:https://www.missouristate.edu/Advising/majors-fair.htm
CATEGORIES:Current Students,Faculty,Future Students,Staff
END:VEVENT
END:VCALENDAR