BEGIN:VCALENDAR
VERSION:2.0
METHOD:PUBLISH
PRODID:-//Missouri State University/Calendar of Events//EN
CALSCALE:GREGORIAN
X-WR-TIMEZONE:America/Chicago
BEGIN:VTIMEZONE
TZID:America/Chicago
BEGIN:DAYLIGHT
TZOFFSETFROM:-0600
TZOFFSETTO:-0500
DTSTART:20070311T020000
RRULE:FREQ=YEARLY;BYMONTH=3;BYDAY=2SU
TZNAME:CDT
END:DAYLIGHT
BEGIN:STANDARD
TZOFFSETFROM:-0500
TZOFFSETTO:-0600
DTSTART:20071104T020000
RRULE:FREQ=YEARLY;BYMONTH=11;BYDAY=1SU
TZNAME:CST
END:STANDARD
END:VTIMEZONE
BEGIN:VEVENT
UID:e2c9124b-d26f-41a3-aa49-1d5444094dab.234638@calendar.missouristate.edu
CREATED:20240327T022109Z
LAST-MODIFIED:20240327T022109Z
LOCATION:Plaster Stadium\, Robert W.
SUMMARY:Solar Eclipse Viewing Event 
DESCRIPTION:On April 8\, 2024\, a total solar eclipse will cross North Ame
 rica\, passing over Mexico\, the United States and Canada. In Springfield
 \, there will be 97% totality at 1:54 p.m.\n\n\nCome and join in and enjo
 y snacks\, games and eclipse viewing.\n\n\nFree viewing glasses will be g
 iven to the first 1\,000 attendees.
X-ALT-DESC;FMTTYPE=text/html:&lt;html&gt;&lt;head&gt;&lt;title&gt;&lt;/title&gt;&lt;/head&gt;&lt;body&gt;&lt;p&gt;&lt;s
 pan&gt;On April 8\, 2024\, a total solar eclipse will cross North America\, 
 passing over Mexico\, the United States and Canada. In Springfield\, ther
 e will be 97% totality at 1:54 p.m.&lt;br&gt;&lt;/span&gt;&lt;/p&gt;\n&lt;p&gt;&lt;span&gt;Come and joi
 n in and enjoy snacks\, games and eclipse viewing.&lt;/span&gt;&lt;/p&gt;\n&lt;p&gt;&lt;span&gt;F
 ree viewing glasses will be given to the first 1\,000 attendees.&lt;/span&gt;&lt;/
 p&gt;&lt;/body&gt;&lt;/html&gt;
DTSTART;TZID=America/Chicago:20240408T130000
DTEND;TZID=America/Chicago:20240408T143000
SEQUENCE:0
URL:123216.jpg
CATEGORIES:Current Students,Faculty,Staff
END:VEVENT
END:VCALENDAR