BEGIN:VCALENDAR
VERSION:2.0
METHOD:PUBLISH
PRODID:-//Missouri State University/Calendar of Events//EN
CALSCALE:GREGORIAN
X-WR-TIMEZONE:America/Chicago
BEGIN:VTIMEZONE
TZID:America/Chicago
BEGIN:DAYLIGHT
TZOFFSETFROM:-0600
TZOFFSETTO:-0500
DTSTART:20070311T020000
RRULE:FREQ=YEARLY;BYMONTH=3;BYDAY=2SU
TZNAME:CDT
END:DAYLIGHT
BEGIN:STANDARD
TZOFFSETFROM:-0500
TZOFFSETTO:-0600
DTSTART:20071104T020000
RRULE:FREQ=YEARLY;BYMONTH=11;BYDAY=1SU
TZNAME:CST
END:STANDARD
END:VTIMEZONE
BEGIN:VEVENT
UID:c4b21bde-15e3-4307-a96f-7f53306aeb6d.234639@calendar.missouristate.edu
CREATED:20240327T150740Z
LAST-MODIFIED:20240327T150740Z
LOCATION:Plaster Student Union\, Robert W. 308
SUMMARY:Education Abroad Faculty Luncheon and Workshop   
DESCRIPTION:Join Education Abroad to explore the concept of “growth mindse
 t” as a tool of positive psychology that can help students achieve maximu
 m personal development and satisfaction through education abroad. Faculty
  will walk away with a toolkit of activities to support their students th
 roughout their education abroad programs. RSVP by April 8\, 2024 with thi
 s link.
X-ALT-DESC;FMTTYPE=text/html:&lt;html&gt;&lt;head&gt;&lt;title&gt;&lt;/title&gt;&lt;/head&gt;&lt;body&gt;&lt;p&gt;Jo
 in Education Abroad to explore the concept of “growth mindset” as a tool 
 of positive psychology that can help students achieve maximum personal de
 velopment and satisfaction through education abroad. Faculty will walk aw
 ay with a toolkit of activities to support their students throughout thei
 r education abroad programs. RSVP by April 8\, 2024 with &lt;a href="https:/
 /forms.office.com/Pages/ResponsePage.aspx?id=5DDYyk9VYUO65chlIz-3fx8Hngif
 AdpCnp6YYIh-RidUMlg4RjZPRE41Rzc4TllBNjlHNU0yQ1ZCTy4u&amp;amp\;wdLOR=cD6766477
 -C918-4A4A-9417-198905850D40"&gt;this link&lt;/a&gt;.&lt;/p&gt;&lt;/body&gt;&lt;/html&gt;
DTSTART;TZID=America/Chicago:20240410T120000
DTEND;TZID=America/Chicago:20240410T133000
SEQUENCE:0
URL:https://international.missouristate.edu/educationabroad/
CATEGORIES:Faculty,Staff
END:VEVENT
END:VCALENDAR