BEGIN:VCALENDAR
VERSION:2.0
METHOD:PUBLISH
PRODID:-//Missouri State University/Calendar of Events//EN
CALSCALE:GREGORIAN
X-WR-TIMEZONE:America/Chicago
BEGIN:VTIMEZONE
TZID:America/Chicago
BEGIN:DAYLIGHT
TZOFFSETFROM:-0600
TZOFFSETTO:-0500
DTSTART:20070311T020000
RRULE:FREQ=YEARLY;BYMONTH=3;BYDAY=2SU
TZNAME:CDT
END:DAYLIGHT
BEGIN:STANDARD
TZOFFSETFROM:-0500
TZOFFSETTO:-0600
DTSTART:20071104T020000
RRULE:FREQ=YEARLY;BYMONTH=11;BYDAY=1SU
TZNAME:CST
END:STANDARD
END:VTIMEZONE
BEGIN:VEVENT
UID:ac85077b-5211-4c1e-87b7-c6ec1ee127f0_11157@calendar.missouristate.edu
CREATED:20240327T172115Z
LAST-MODIFIED:20240327T172115Z
LOCATION:Baker Bookstore
SUMMARY:Spring Buy Back
DESCRIPTION:The Bookstore will host an end of Spring Semester BuyBack and 
 Rental Check-In at the campus Bookstore. This event will run at the Books
 tore from April 29th thru May 10th during normal bookstore hours. The las
 t day to check-in rental books from Spring semester is May 10th. Books pu
 rchased by the Bookstore during this buyback event will be paid cash.  We
  do require all customers have their BearPass and/or M-number available f
 or both buyback and rental check-in transactions.  
X-ALT-DESC;FMTTYPE=text/html:&lt;html&gt;&lt;head&gt;&lt;title&gt;&lt;/title&gt;&lt;/head&gt;&lt;body&gt;&lt;p&gt;Th
 e Bookstore will host an end of Spring Semester BuyBack and Rental Check-
 In at the campus Bookstore. This event will run at the Bookstore from Apr
 il 29th thru May 10th during normal bookstore hours. The last day to chec
 k-in rental books from Spring semester is May 10th. Books purchased by th
 e Bookstore during this buyback event will be paid cash.&amp;nbsp\; We do req
 uire all customers have their BearPass and/or M-number available for both
  buyback and rental check-in transactions.&amp;nbsp\;&amp;nbsp\;&lt;/p&gt;&lt;/body&gt;&lt;/html&gt;
DTSTART;VALUE=DATE:20240429
DTEND;VALUE=DATE:20240430
RRULE:FREQ=WEEKLY;BYDAY=SU,MO,TU,WE,TH,FR;UNTIL=20240511
SEQUENCE:0
URL:https://shop.missouristatebookstore.com/
CATEGORIES:Public,Alumni,Current Students,Faculty,Future Students,Staff
END:VEVENT
END:VCALENDAR