BEGIN:VCALENDAR
VERSION:2.0
METHOD:PUBLISH
PRODID:-//Missouri State University/Calendar of Events//EN
CALSCALE:GREGORIAN
X-WR-TIMEZONE:America/Chicago
BEGIN:VTIMEZONE
TZID:America/Chicago
BEGIN:DAYLIGHT
TZOFFSETFROM:-0600
TZOFFSETTO:-0500
DTSTART:20070311T020000
RRULE:FREQ=YEARLY;BYMONTH=3;BYDAY=2SU
TZNAME:CDT
END:DAYLIGHT
BEGIN:STANDARD
TZOFFSETFROM:-0500
TZOFFSETTO:-0600
DTSTART:20071104T020000
RRULE:FREQ=YEARLY;BYMONTH=11;BYDAY=1SU
TZNAME:CST
END:STANDARD
END:VTIMEZONE
BEGIN:VEVENT
UID:00000000-0000-0000-0000-000000000000.234659@calendar.missouristate.edu
CREATED:20240327T164550Z
LAST-MODIFIED:20240327T164550Z
LOCATION:To Be Determined
SUMMARY:Lebanon Alumni Chapter Golf Tournament Sponsorship
DESCRIPTION:Advertise your company’s name with Lebanon-area alumni and eve
 ryone on the course at the 40th Annual Lebanon Alumni Chapter Golf Tourna
 ment on June 3\, 2024. Sponsorships are available at various levels.
X-ALT-DESC;FMTTYPE=text/html:&lt;html&gt;&lt;head&gt;&lt;title&gt;&lt;/title&gt;&lt;/head&gt;&lt;body&gt;&lt;p&gt;Ad
 vertise your company&amp;rsquo\;s name with Lebanon-area alumni and everyone 
 on the course at the 40th Annual Lebanon Alumni Chapter Golf Tournament o
 n June 3\, 2024. Sponsorships are available at various levels.&lt;br&gt;\n&lt;/p&gt;&lt;
 /body&gt;&lt;/html&gt;
DTSTART;TZID=America/Chicago:20240603T080000
DTEND;TZID=America/Chicago:20240603T123000
SEQUENCE:0
URL:https://missouristate.imodules.com?sid=1691&amp;gid=2&amp;pgid=3684&amp;cid=6471&amp;e
 cid=6471&amp;ciid=22437&amp;crid=0
CATEGORIES:Public,Alumni,Parents and Family,Visitors
END:VEVENT
END:VCALENDAR