BEGIN:VCALENDAR
VERSION:2.0
METHOD:PUBLISH
PRODID:-//Missouri State University/Calendar of Events//EN
CALSCALE:GREGORIAN
X-WR-TIMEZONE:America/Chicago
BEGIN:VTIMEZONE
TZID:America/Chicago
BEGIN:DAYLIGHT
TZOFFSETFROM:-0600
TZOFFSETTO:-0500
DTSTART:20070311T020000
RRULE:FREQ=YEARLY;BYMONTH=3;BYDAY=2SU
TZNAME:CDT
END:DAYLIGHT
BEGIN:STANDARD
TZOFFSETFROM:-0500
TZOFFSETTO:-0600
DTSTART:20071104T020000
RRULE:FREQ=YEARLY;BYMONTH=11;BYDAY=1SU
TZNAME:CST
END:STANDARD
END:VTIMEZONE
BEGIN:VEVENT
UID:525cdbce-609c-4a22-81da-f06987125c29_11159@calendar.missouristate.edu
CREATED:20240328T133018Z
LAST-MODIFIED:20240328T133018Z
LOCATION:Baker Bookstore Outside Patio
SUMMARY:Tent Sale
DESCRIPTION:April 29th thru May 3rd\, your best chance to stock up on Bear
 Wear at great prices! The Bookstore annual Tent Sale will be located on t
 he patio on the west side of the building. \n\n\nWe will be open Monday-T
 hursday from 8:30 a.m.-5 p.m. and Friday from 8:30 a.m.-4 p.m. (or until 
 sold out).\n\n\nThe sale graduates in discounts each day:\n\n\n*Monday: s
 ave 50%\n\n\n*Tuesday: save 55%\n\n\n*Wednesday: save 60%\n\n\n*Thursday:
  save 65%\n\n\n*Friday: save 75%\n\n\nShop early\, shop often! \n\n\n*Som
 e items will be priced to sell as marked.
X-ALT-DESC;FMTTYPE=text/html:&lt;html&gt;&lt;head&gt;&lt;title&gt;&lt;/title&gt;&lt;/head&gt;&lt;body&gt;&lt;p&gt;Ap
 ril 29th thru May 3rd\,&amp;nbsp\;&lt;span&gt;your best chance to stock up on BearW
 ear at great prices! The Bookstore annual Tent Sale will be located on th
 e patio on the west side of the building.&amp;nbsp\;&lt;/span&gt;&lt;/p&gt;\n&lt;p&gt;We will b
 e open Monday-Thursday from 8:30 a.m.-5 p.m. and Friday from 8:30 a.m.-4 
 p.m. (or until sold out).&lt;/p&gt;\n&lt;p&gt;The sale graduates in discounts each da
 y:&lt;/p&gt;\n&lt;p&gt;*Monday: save 50%&lt;/p&gt;\n&lt;p&gt;*Tuesday: save 55%&lt;/p&gt;\n&lt;p&gt;*Wednesda
 y: save 60%&lt;/p&gt;\n&lt;p&gt;*Thursday: save 65%&lt;/p&gt;\n&lt;p&gt;*Friday: save 75%&lt;/p&gt;\n&lt;p
 &gt;Shop early\, shop often!&amp;nbsp\;&lt;/p&gt;\n&lt;p&gt;*Some items will be priced to se
 ll as marked.&lt;/p&gt;&lt;/body&gt;&lt;/html&gt;
DTSTART;TZID=America/Chicago:20240429T083000
DTEND;TZID=America/Chicago:20240429T170000
RRULE:FREQ=WEEKLY;BYDAY=MO,TU,WE,TH,FR;UNTIL=20240504
SEQUENCE:5
URL:https://shop.missouristatebookstore.com/
CATEGORIES:Public,Alumni,Current Students,Faculty,Future Students,Staff
END:VEVENT
END:VCALENDAR