BEGIN:VCALENDAR
VERSION:2.0
METHOD:PUBLISH
PRODID:-//Missouri State University/Calendar of Events//EN
CALSCALE:GREGORIAN
X-WR-TIMEZONE:America/Chicago
BEGIN:VTIMEZONE
TZID:America/Chicago
BEGIN:DAYLIGHT
TZOFFSETFROM:-0600
TZOFFSETTO:-0500
DTSTART:20070311T020000
RRULE:FREQ=YEARLY;BYMONTH=3;BYDAY=2SU
TZNAME:CDT
END:DAYLIGHT
BEGIN:STANDARD
TZOFFSETFROM:-0500
TZOFFSETTO:-0600
DTSTART:20071104T020000
RRULE:FREQ=YEARLY;BYMONTH=11;BYDAY=1SU
TZNAME:CST
END:STANDARD
END:VTIMEZONE
BEGIN:VEVENT
UID:3e3d916f-d564-4d1a-bd92-772773d5756a_11161@calendar.missouristate.edu
CREATED:20240328T132728Z
LAST-MODIFIED:20240328T132728Z
LOCATION:Baker Bookstore
SUMMARY:Bookstore Inventory
DESCRIPTION:May 23 and May 24th the Bookstore will be CLOSED to the public
  due to our annual physical inventory. We will not be available to answer
  phones\, emails\, or process online orders during this time. The booksto
 re will re-open on Tuesday\, May 28\, after the Memorial Day holiday week
 end. Any voice messages\, emails\, or online orders that were sent to the
  bookstoe during this time we were closed will be responded to as quickly
  as possible on Tuesday\, May 28 when we re-open for business. \n\n\nWe a
 ppreciate your understanding and patience with us during this time.
X-ALT-DESC;FMTTYPE=text/html:&lt;html&gt;&lt;head&gt;&lt;title&gt;&lt;/title&gt;&lt;/head&gt;&lt;body&gt;&lt;p&gt;Ma
 y 23 and May 24th the Bookstore will be CLOSED to the public due to our a
 nnual physical inventory. We will not be available to answer phones\, ema
 ils\, or process online orders during this time. The bookstore will re-op
 en on Tuesday\, May 28\, after the Memorial Day holiday weekend. Any voic
 e messages\, emails\, or online orders that were sent to the bookstoe dur
 ing this time we were closed will be responded to as quickly as possible 
 on Tuesday\, May 28 when we re-open for business.&amp;nbsp\;&lt;/p&gt;\n&lt;p&gt;We appre
 ciate your understanding and patience with us during this time.&lt;/p&gt;&lt;/body
 &gt;&lt;/html&gt;
DTSTART;VALUE=DATE:20240523
DTEND;VALUE=DATE:20240524
RRULE:FREQ=WEEKLY;BYDAY=WE,TH;UNTIL=20240525
SEQUENCE:2
URL:https://shop.missouristatebookstore.com/
CATEGORIES:Public,Alumni,Current Students,Faculty,Future Students,Staff
END:VEVENT
END:VCALENDAR