BEGIN:VCALENDAR
VERSION:2.0
METHOD:PUBLISH
PRODID:-//Missouri State University/Calendar of Events//EN
CALSCALE:GREGORIAN
X-WR-TIMEZONE:America/Chicago
BEGIN:VTIMEZONE
TZID:America/Chicago
BEGIN:DAYLIGHT
TZOFFSETFROM:-0600
TZOFFSETTO:-0500
DTSTART:20070311T020000
RRULE:FREQ=YEARLY;BYMONTH=3;BYDAY=2SU
TZNAME:CDT
END:DAYLIGHT
BEGIN:STANDARD
TZOFFSETFROM:-0500
TZOFFSETTO:-0600
DTSTART:20071104T020000
RRULE:FREQ=YEARLY;BYMONTH=11;BYDAY=1SU
TZNAME:CST
END:STANDARD
END:VTIMEZONE
BEGIN:VEVENT
UID:2ff53acc-21c9-4ffc-bf31-48d7480d1d4d_11162@calendar.missouristate.edu
CREATED:20240328T132557Z
LAST-MODIFIED:20240328T132557Z
LOCATION:Baker Bookstore
SUMMARY:Grad Fair
DESCRIPTION:The Missouri State Bookstore is hosting Grad Fair for our Dece
 mber Bear Grads! Grad Fair is scheduled for October 2nd and 3rd. This is 
 YOUR one stop shop for all your graduation needs.  You are able to purcha
 se your regalia\, pick-up your name card for commencement along with any 
 cords you earned\, meet with campus departments from around the campus an
 d our vendor partners for graduation or professions pictures\, ring infor
 mation and much more. You will also be able to save up to 20% off Bearwea
 r\, souvenirs and grad frames. \n\n\nCongratulations and GO BEARS!
X-ALT-DESC;FMTTYPE=text/html:&lt;html&gt;&lt;head&gt;&lt;title&gt;&lt;/title&gt;&lt;/head&gt;&lt;body&gt;&lt;p&gt;&lt;s
 pan&gt;The Missouri State Bookstore is hosting Grad Fair for our December Be
 ar Grads! Grad Fair is scheduled for October 2nd and 3rd. This is YOUR on
 e stop shop for all your graduation needs.&amp;nbsp\; You are able to purchas
 e your regalia\, pick-up your name card for commencement along with any c
 ords you earned\, meet with campus departments from around the campus and
  our vendor partners for graduation or professions pictures\, ring inform
 ation and much more. You will also be able to save up to 20% off Bearwear
 \, souvenirs and grad frames. &lt;/span&gt;&lt;/p&gt;\n&lt;p&gt;&lt;span&gt;Congratulations and G
 O BEARS!&lt;/span&gt;&lt;/p&gt;&lt;/body&gt;&lt;/html&gt;
DTSTART;TZID=America/Chicago:20241002T090000
DTEND;TZID=America/Chicago:20241002T170000
RRULE:FREQ=WEEKLY;BYDAY=TU,WE;UNTIL=20241004
SEQUENCE:2
URL:https://shop.missouristatebookstore.com/
CATEGORIES:Public,Alumni,Current Students,Faculty,Staff
END:VEVENT
END:VCALENDAR