BEGIN:VCALENDAR
VERSION:2.0
METHOD:PUBLISH
PRODID:-//Missouri State University/Calendar of Events//EN
CALSCALE:GREGORIAN
X-WR-TIMEZONE:America/Chicago
BEGIN:VTIMEZONE
TZID:America/Chicago
BEGIN:DAYLIGHT
TZOFFSETFROM:-0600
TZOFFSETTO:-0500
DTSTART:20070311T020000
RRULE:FREQ=YEARLY;BYMONTH=3;BYDAY=2SU
TZNAME:CDT
END:DAYLIGHT
BEGIN:STANDARD
TZOFFSETFROM:-0500
TZOFFSETTO:-0600
DTSTART:20071104T020000
RRULE:FREQ=YEARLY;BYMONTH=11;BYDAY=1SU
TZNAME:CST
END:STANDARD
END:VTIMEZONE
BEGIN:VEVENT
UID:00000000-0000-0000-0000-000000000000.234754@calendar.missouristate.edu
CREATED:20240327T194600Z
LAST-MODIFIED:20240327T194600Z
LOCATION:To Be Determined
SUMMARY:Lebanon Alumni Chapter 40th Annual Golf Tournament
DESCRIPTION:Build your team and play the Great Life Golf and Fitness cours
 e on June 3. Proceeds benefit the Lebanon Alumni Chapter Scholarship fund.
X-ALT-DESC;FMTTYPE=text/html:&lt;html&gt;&lt;head&gt;&lt;title&gt;&lt;/title&gt;&lt;/head&gt;&lt;body&gt;&lt;p&gt;Bu
 ild your team and play the Great Life Golf and Fitness course on June 3. 
 Proceeds benefit the Lebanon Alumni Chapter Scholarship fund.&lt;/p&gt;&lt;/body&gt;&lt;
 /html&gt;
DTSTART;TZID=America/Chicago:20240603T083000
DTEND;TZID=America/Chicago:20240603T123000
SEQUENCE:0
URL:https://missouristate.imodules.com?sid=1691&amp;gid=2&amp;pgid=3690&amp;cid=6479&amp;e
 cid=6479&amp;ciid=22738&amp;crid=0
CATEGORIES:Public,Alumni,Parents and Family,Visitors
END:VEVENT
END:VCALENDAR