BEGIN:VCALENDAR
VERSION:2.0
METHOD:PUBLISH
PRODID:-//Missouri State University/Calendar of Events//EN
CALSCALE:GREGORIAN
X-WR-TIMEZONE:America/Chicago
BEGIN:VTIMEZONE
TZID:America/Chicago
BEGIN:DAYLIGHT
TZOFFSETFROM:-0600
TZOFFSETTO:-0500
DTSTART:20070311T020000
RRULE:FREQ=YEARLY;BYMONTH=3;BYDAY=2SU
TZNAME:CDT
END:DAYLIGHT
BEGIN:STANDARD
TZOFFSETFROM:-0500
TZOFFSETTO:-0600
DTSTART:20071104T020000
RRULE:FREQ=YEARLY;BYMONTH=11;BYDAY=1SU
TZNAME:CST
END:STANDARD
END:VTIMEZONE
BEGIN:VEVENT
UID:6d8f1a5b-b0a9-4402-957b-4036f00a4b52.234739@calendar.missouristate.edu
CREATED:20240401T153328Z
LAST-MODIFIED:20240401T153328Z
LOCATION:https://us02web.zoom.us/j/88422055734
SUMMARY:Board of Governors Special Meeting
DESCRIPTION:The Missouri State University Board of Governors will hold a s
 pecial meeting via Zoom webinar. This was previously scheduled as an Exec
 utive Committee meeting.\n\n\n\n\n\nMeeting agendas cand be found here:\n
 \n\n\nhttps://www.missouristate.edu/BOG/Agendas/
X-ALT-DESC;FMTTYPE=text/html:&lt;html&gt;&lt;head&gt;&lt;title&gt;&lt;/title&gt;&lt;/head&gt;&lt;body&gt;&lt;p&gt;Th
 e Missouri State University Board of Governors will hold a special meetin
 g via Zoom webinar. This was previously scheduled as an Executive Committ
 ee meeting.&lt;/p&gt;\n&lt;p&gt;&lt;/p&gt;\n&lt;p&gt;Meeting agendas cand be found here:&lt;/p&gt;\n&lt;ul
 &gt;\n&lt;li&gt;&lt;a href="https://www.missouristate.edu/BOG/Agendas/"&gt;https://www.m
 issouristate.edu/BOG/Agendas/&lt;/a&gt;&lt;/li&gt;\n&lt;/ul&gt;&lt;/body&gt;&lt;/html&gt;
DTSTART;TZID=America/Chicago:20240417T160000
DTEND;TZID=America/Chicago:20240417T170000
SEQUENCE:0
URL:https://www.missouristate.edu/BOG/
CATEGORIES:Public,Alumni,Current Students,Faculty,Future Students,Staff
END:VEVENT
END:VCALENDAR