BEGIN:VCALENDAR
VERSION:2.0
METHOD:PUBLISH
PRODID:-//Missouri State University/Calendar of Events//EN
CALSCALE:GREGORIAN
X-WR-TIMEZONE:America/Chicago
BEGIN:VTIMEZONE
TZID:America/Chicago
BEGIN:DAYLIGHT
TZOFFSETFROM:-0600
TZOFFSETTO:-0500
DTSTART:20070311T020000
RRULE:FREQ=YEARLY;BYMONTH=3;BYDAY=2SU
TZNAME:CDT
END:DAYLIGHT
BEGIN:STANDARD
TZOFFSETFROM:-0500
TZOFFSETTO:-0600
DTSTART:20071104T020000
RRULE:FREQ=YEARLY;BYMONTH=11;BYDAY=1SU
TZNAME:CST
END:STANDARD
END:VTIMEZONE
BEGIN:VEVENT
UID:f16012d7-9815-451a-bdb6-efe1b7ccced6.234743@calendar.missouristate.edu
CREATED:20240403T171920Z
LAST-MODIFIED:20240403T171920Z
LOCATION:To Be Determined
SUMMARY:Fountain Day 2024
DESCRIPTION:Join Traditions Council to celebrate Fountain Day! We will hav
 e free shirts\, food\, wish bottles\, and rock painting to commemorate th
 e occasion!
X-ALT-DESC;FMTTYPE=text/html:&lt;html&gt;&lt;head&gt;&lt;title&gt;&lt;/title&gt;&lt;/head&gt;&lt;body&gt;&lt;p&gt;Jo
 in Traditions Council to celebrate Fountain Day! We will have free shirts
 \, food\, wish bottles\, and rock painting to commemorate the occasion!&lt;/
 p&gt;&lt;/body&gt;&lt;/html&gt;
DTSTART;TZID=America/Chicago:20240410T110000
DTEND;TZID=America/Chicago:20240410T140000
SEQUENCE:0
URL:123244.jpg
CATEGORIES:Current Students,Faculty,Staff
END:VEVENT
END:VCALENDAR