BEGIN:VCALENDAR
VERSION:2.0
METHOD:PUBLISH
PRODID:-//Missouri State University/Calendar of Events//EN
CALSCALE:GREGORIAN
X-WR-TIMEZONE:America/Chicago
BEGIN:VTIMEZONE
TZID:America/Chicago
BEGIN:DAYLIGHT
TZOFFSETFROM:-0600
TZOFFSETTO:-0500
DTSTART:20070311T020000
RRULE:FREQ=YEARLY;BYMONTH=3;BYDAY=2SU
TZNAME:CDT
END:DAYLIGHT
BEGIN:STANDARD
TZOFFSETFROM:-0500
TZOFFSETTO:-0600
DTSTART:20071104T020000
RRULE:FREQ=YEARLY;BYMONTH=11;BYDAY=1SU
TZNAME:CST
END:STANDARD
END:VTIMEZONE
BEGIN:VEVENT
UID:b0769a0d-018c-476d-bbfa-45a5a6dc6458.234746@calendar.missouristate.edu
CREATED:20240403T173514Z
LAST-MODIFIED:20240403T173514Z
LOCATION:To Be Determined
SUMMARY:Greek Jam Ticket Giveaway
DESCRIPTION:Traditions Council and Greek Week present free pre-paid Greek 
 Jam tickets and P-Whip on the Bear Head plaza! Sponsoring the tradition o
 f 'Attending a Greek Week Event' and 'Finding your Favorite Sweet Treat.'
X-ALT-DESC;FMTTYPE=text/html:&lt;html&gt;&lt;head&gt;&lt;title&gt;&lt;/title&gt;&lt;/head&gt;&lt;body&gt;&lt;p&gt;Tr
 aditions Council and Greek Week present free pre-paid Greek Jam tickets a
 nd P-Whip on the Bear Head plaza! Sponsoring the tradition of 'Attending 
 a Greek Week Event' and 'Finding your Favorite Sweet Treat.'&lt;/p&gt;&lt;/body&gt;&lt;/
 html&gt;
DTSTART;TZID=America/Chicago:20240411T110000
DTEND;TZID=America/Chicago:20240411T130000
SEQUENCE:0
URL:123247.jpg
CATEGORIES:Current Students
END:VEVENT
END:VCALENDAR