BEGIN:VCALENDAR
VERSION:2.0
METHOD:PUBLISH
PRODID:-//Missouri State University/Calendar of Events//EN
CALSCALE:GREGORIAN
X-WR-TIMEZONE:America/Chicago
BEGIN:VTIMEZONE
TZID:America/Chicago
BEGIN:DAYLIGHT
TZOFFSETFROM:-0600
TZOFFSETTO:-0500
DTSTART:20070311T020000
RRULE:FREQ=YEARLY;BYMONTH=3;BYDAY=2SU
TZNAME:CDT
END:DAYLIGHT
BEGIN:STANDARD
TZOFFSETFROM:-0500
TZOFFSETTO:-0600
DTSTART:20071104T020000
RRULE:FREQ=YEARLY;BYMONTH=11;BYDAY=1SU
TZNAME:CST
END:STANDARD
END:VTIMEZONE
BEGIN:VEVENT
UID:fbc7b7be-4a9a-4103-aa06-11a46ddd6119.234747@calendar.missouristate.edu
CREATED:20240403T175457Z
LAST-MODIFIED:20240403T175457Z
LOCATION:To Be Determined
SUMMARY:Quarter Zip Giveaway
DESCRIPTION:Come to the historic quad and receive a quarter zip. In case o
 f rain\, we will move it to the PSU Remembrance Lounge. Students must sho
 w Bear Pass.
X-ALT-DESC;FMTTYPE=text/html:&lt;html&gt;&lt;head&gt;&lt;title&gt;&lt;/title&gt;&lt;/head&gt;&lt;body&gt;&lt;p&gt;Co
 me to the historic quad and receive a quarter zip. In case of rain\, we w
 ill move it to the PSU Remembrance Lounge. Students must show Bear Pass.&lt;
 /p&gt;&lt;/body&gt;&lt;/html&gt;
DTSTART;TZID=America/Chicago:20240417T120000
DTEND;TZID=America/Chicago:20240417T140000
SEQUENCE:0
URL:123248.jpg
CATEGORIES:Current Students
END:VEVENT
END:VCALENDAR