BEGIN:VCALENDAR
VERSION:2.0
METHOD:PUBLISH
PRODID:-//Missouri State University/Calendar of Events//EN
CALSCALE:GREGORIAN
X-WR-TIMEZONE:America/Chicago
BEGIN:VTIMEZONE
TZID:America/Chicago
BEGIN:DAYLIGHT
TZOFFSETFROM:-0600
TZOFFSETTO:-0500
DTSTART:20070311T020000
RRULE:FREQ=YEARLY;BYMONTH=3;BYDAY=2SU
TZNAME:CDT
END:DAYLIGHT
BEGIN:STANDARD
TZOFFSETFROM:-0500
TZOFFSETTO:-0600
DTSTART:20071104T020000
RRULE:FREQ=YEARLY;BYMONTH=11;BYDAY=1SU
TZNAME:CST
END:STANDARD
END:VTIMEZONE
BEGIN:VEVENT
UID:6b2f2227-d3ff-447d-874a-c8b0bd0fbed8.234757@calendar.missouristate.edu
CREATED:20240421T051502Z
LAST-MODIFIED:20240421T051502Z
LOCATION:Youngsville\, La.
SUMMARY:Missouri State University Beach Volleyball vs TBD - Sugar Beach - 
 Youngsville Sports Complex
DESCRIPTION:Missouri State University Beach Volleyball plays TBD - Sugar B
 each - Youngsville Sports ComplexTV: ESPN3
X-ALT-DESC;FMTTYPE=text/html:&lt;html&gt;&lt;head&gt;&lt;title&gt;&lt;/title&gt;&lt;/head&gt;&lt;body&gt;Misso
 uri State University Beach Volleyball plays TBD - Sugar Beach - Youngsvil
 le Sports Complex&lt;br&gt;&lt;br&gt;TV: ESPN3&lt;/body&gt;&lt;/html&gt;
DTSTART;VALUE=DATE:20240425
DTEND;VALUE=DATE:20240426
SEQUENCE:0
URL:http://missouristatebears.com/index.aspx?path=wvball
CATEGORIES:Current Students,Future Students,Parents and Family,Alumni,
 Faculty,Staff,Community,Visitors,Athletics
END:VEVENT
END:VCALENDAR