BEGIN:VCALENDAR
VERSION:2.0
METHOD:PUBLISH
PRODID:-//Missouri State University/Calendar of Events//EN
CALSCALE:GREGORIAN
X-WR-TIMEZONE:America/Chicago
BEGIN:VTIMEZONE
TZID:America/Chicago
BEGIN:DAYLIGHT
TZOFFSETFROM:-0600
TZOFFSETTO:-0500
DTSTART:20070311T020000
RRULE:FREQ=YEARLY;BYMONTH=3;BYDAY=2SU
TZNAME:CDT
END:DAYLIGHT
BEGIN:STANDARD
TZOFFSETFROM:-0500
TZOFFSETTO:-0600
DTSTART:20071104T020000
RRULE:FREQ=YEARLY;BYMONTH=11;BYDAY=1SU
TZNAME:CST
END:STANDARD
END:VTIMEZONE
BEGIN:VEVENT
UID:00000000-0000-0000-0000-000000000000.234759@calendar.missouristate.edu
CREATED:20240429T164533Z
LAST-MODIFIED:20240429T164533Z
LOCATION:To Be Determined
SUMMARY:Black Alumni Network Bi-Annual Meeting
DESCRIPTION:Join the Missouri State Black Alumni Network Bi-Annual Meeting
 \, where you'll hear from President Clif Smart\, gain valuable insights i
 nto the future of the Black Alumni Network\, receive updates from Network
  leadership\, and stay informed about opportunities with the Missouri Sta
 te Alumni Association.
X-ALT-DESC;FMTTYPE=text/html:&lt;html&gt;&lt;head&gt;&lt;title&gt;&lt;/title&gt;&lt;/head&gt;&lt;body&gt;Join 
 the Missouri State Black Alumni Network Bi-Annual Meeting\, where you'll 
 hear from President Clif Smart\, gain valuable insights into the future o
 f the Black Alumni Network\, receive updates from Network leadership\, an
 d stay informed about opportunities with the Missouri State Alumni Associ
 ation.&lt;br&gt;&lt;/body&gt;&lt;/html&gt;
DTSTART;TZID=America/Chicago:20240608T100000
DTEND;TZID=America/Chicago:20240608T110000
SEQUENCE:0
URL:https://missouristate.imodules.com?sid=1691&amp;gid=2&amp;pgid=3729&amp;cid=6529&amp;e
 cid=6529&amp;ciid=23016&amp;crid=0
CATEGORIES:Public,Alumni,Parents and Family,Visitors
END:VEVENT
END:VCALENDAR