BEGIN:VCALENDAR
VERSION:2.0
METHOD:PUBLISH
PRODID:-//Missouri State University/Calendar of Events//EN
CALSCALE:GREGORIAN
X-WR-TIMEZONE:America/Chicago
BEGIN:VTIMEZONE
TZID:America/Chicago
BEGIN:DAYLIGHT
TZOFFSETFROM:-0600
TZOFFSETTO:-0500
DTSTART:20070311T020000
RRULE:FREQ=YEARLY;BYMONTH=3;BYDAY=2SU
TZNAME:CDT
END:DAYLIGHT
BEGIN:STANDARD
TZOFFSETFROM:-0500
TZOFFSETTO:-0600
DTSTART:20071104T020000
RRULE:FREQ=YEARLY;BYMONTH=11;BYDAY=1SU
TZNAME:CST
END:STANDARD
END:VTIMEZONE
BEGIN:VEVENT
UID:00000000-0000-0000-0000-000000000000.234761@calendar.missouristate.edu
CREATED:20240429T164551Z
LAST-MODIFIED:20240429T164551Z
LOCATION:To Be Determined
SUMMARY:MarooNation Ball Springfield 2024
DESCRIPTION:Register now for October 4 as we host the MarooNation Ball Mar
 oon Saloon benefitting Missouri State University! Hit the saloon floor at
  The Old Glass Place and enjoy an unforgettable night as you take your ch
 ances at blackjack and more.
X-ALT-DESC;FMTTYPE=text/html:&lt;html&gt;&lt;head&gt;&lt;title&gt;&lt;/title&gt;&lt;/head&gt;&lt;body&gt;&lt;p&gt;Re
 gister now for October 4 as we host the MarooNation Ball Maroon Saloon be
 nefitting Missouri State University! Hit the saloon floor at The Old Glas
 s Place and enjoy an unforgettable night as you take your chances at blac
 kjack and more.&lt;/p&gt;&lt;/body&gt;&lt;/html&gt;
DTSTART;TZID=America/Chicago:20241004T180000
DTEND;TZID=America/Chicago:20241004T220000
SEQUENCE:0
URL:https://missouristate.imodules.com?sid=1691&amp;gid=2&amp;pgid=3705&amp;cid=6499&amp;e
 cid=6499&amp;ciid=23507&amp;crid=0
CATEGORIES:Public,Alumni,Parents and Family,Visitors
END:VEVENT
END:VCALENDAR