BEGIN:VCALENDAR
VERSION:2.0
METHOD:PUBLISH
PRODID:-//Missouri State University/Calendar of Events//EN
CALSCALE:GREGORIAN
X-WR-TIMEZONE:America/Chicago
BEGIN:VTIMEZONE
TZID:America/Chicago
BEGIN:DAYLIGHT
TZOFFSETFROM:-0600
TZOFFSETTO:-0500
DTSTART:20070311T020000
RRULE:FREQ=YEARLY;BYMONTH=3;BYDAY=2SU
TZNAME:CDT
END:DAYLIGHT
BEGIN:STANDARD
TZOFFSETFROM:-0500
TZOFFSETTO:-0600
DTSTART:20071104T020000
RRULE:FREQ=YEARLY;BYMONTH=11;BYDAY=1SU
TZNAME:CST
END:STANDARD
END:VTIMEZONE
BEGIN:VEVENT
UID:00000000-0000-0000-0000-000000000000.234762@calendar.missouristate.edu
CREATED:20240429T164555Z
LAST-MODIFIED:20240429T164555Z
LOCATION:To Be Determined
SUMMARY:St. Louis MarooNation Ball
DESCRIPTION:Register today for November 2 as we host a Vintage Vegas Maroo
 Nation Ball Casino Night in St. Louis benefitting Missouri State Universi
 ty! Hit the casino floor and enjoy an unforgettable night of casino games
  with entertainment straight from the Vegas strip. 
X-ALT-DESC;FMTTYPE=text/html:&lt;html&gt;&lt;head&gt;&lt;title&gt;&lt;/title&gt;&lt;/head&gt;&lt;body&gt;&lt;p&gt;Re
 gister today for November 2 as we host a Vintage Vegas MarooNation Ball C
 asino Night in St. Louis benefitting Missouri State University! Hit the c
 asino floor and enjoy an unforgettable night of casino games with enterta
 inment straight from the Vegas strip.&amp;nbsp\;&lt;br&gt;\n&lt;/p&gt;&lt;/body&gt;&lt;/html&gt;
DTSTART;TZID=America/Chicago:20241102T180000
DTEND;TZID=America/Chicago:20241102T220000
SEQUENCE:0
URL:https://missouristate.imodules.com?sid=1691&amp;gid=2&amp;pgid=3693&amp;cid=6483&amp;e
 cid=6483&amp;ciid=23263&amp;crid=0
CATEGORIES:Public,Alumni,Parents and Family,Visitors
END:VEVENT
END:VCALENDAR