BEGIN:VCALENDAR
VERSION:2.0
METHOD:PUBLISH
PRODID:-//Missouri State University/Calendar of Events//EN
CALSCALE:GREGORIAN
X-WR-TIMEZONE:America/Chicago
BEGIN:VTIMEZONE
TZID:America/Chicago
BEGIN:DAYLIGHT
TZOFFSETFROM:-0600
TZOFFSETTO:-0500
DTSTART:20070311T020000
RRULE:FREQ=YEARLY;BYMONTH=3;BYDAY=2SU
TZNAME:CDT
END:DAYLIGHT
BEGIN:STANDARD
TZOFFSETFROM:-0500
TZOFFSETTO:-0600
DTSTART:20071104T020000
RRULE:FREQ=YEARLY;BYMONTH=11;BYDAY=1SU
TZNAME:CST
END:STANDARD
END:VTIMEZONE
BEGIN:VEVENT
UID:00000000-0000-0000-0000-000000000000.234767@calendar.missouristate.edu
CREATED:20240507T204538Z
LAST-MODIFIED:20240507T204538Z
LOCATION:To Be Determined
SUMMARY:Springfield Alumni Chapter Pizza Night at Millsap Farms
DESCRIPTION:Join the Springfield Alumni Chapter for a Pizza Night at Mills
 ap Farms on Thursday\, June 20. Enjoy wood-fired pizza and drinks with fe
 llow Bears then stick around for a tour of Millsap's 20-acre diversified 
 farm.
X-ALT-DESC;FMTTYPE=text/html:&lt;html&gt;&lt;head&gt;&lt;title&gt;&lt;/title&gt;&lt;/head&gt;&lt;body&gt;Join 
 the Springfield Alumni Chapter for a Pizza Night at Millsap Farms on Thur
 sday\, June 20. Enjoy wood-fired pizza and drinks with fellow Bears then 
 stick around for a tour of Millsap's 20-acre diversified farm.&lt;/body&gt;&lt;/ht
 ml&gt;
DTSTART;TZID=America/Chicago:20240620T173000
DTEND;TZID=America/Chicago:20240620T200000
SEQUENCE:0
URL:https://missouristate.imodules.com?sid=1691&amp;gid=2&amp;pgid=3753&amp;cid=6562&amp;e
 cid=6562&amp;ciid=23126&amp;crid=0
CATEGORIES:Public,Alumni,Parents and Family,Visitors
END:VEVENT
END:VCALENDAR