BEGIN:VCALENDAR
VERSION:2.0
METHOD:PUBLISH
PRODID:-//Missouri State University/Calendar of Events//EN
CALSCALE:GREGORIAN
X-WR-TIMEZONE:America/Chicago
BEGIN:VTIMEZONE
TZID:America/Chicago
BEGIN:DAYLIGHT
TZOFFSETFROM:-0600
TZOFFSETTO:-0500
DTSTART:20070311T020000
RRULE:FREQ=YEARLY;BYMONTH=3;BYDAY=2SU
TZNAME:CDT
END:DAYLIGHT
BEGIN:STANDARD
TZOFFSETFROM:-0500
TZOFFSETTO:-0600
DTSTART:20071104T020000
RRULE:FREQ=YEARLY;BYMONTH=11;BYDAY=1SU
TZNAME:CST
END:STANDARD
END:VTIMEZONE
BEGIN:VEVENT
UID:00000000-0000-0000-0000-000000000000.234786@calendar.missouristate.edu
CREATED:20240510T154502Z
LAST-MODIFIED:20240510T154502Z
LOCATION:To Be Determined
SUMMARY:NYC Alumni Gathering
DESCRIPTION:Missouri State alumni and friends are invited to two events in
  New York City. Connect with university leadership and celebrate with Pre
 sident Clif Smart as he visits NYC for the last time as Missouri State's 
 president.
X-ALT-DESC;FMTTYPE=text/html:&lt;html&gt;&lt;head&gt;&lt;title&gt;&lt;/title&gt;&lt;/head&gt;&lt;body&gt;Misso
 uri State alumni and friends are invited to two events in New York City. 
 Connect with university leadership and celebrate with President Clif Smar
 t as he visits NYC for the last time as Missouri State's president.&lt;/body
 &gt;&lt;/html&gt;
DTSTART;TZID=America/Chicago:20240614T170000
DTEND;TZID=America/Chicago:20240614T190000
SEQUENCE:0
URL:https://missouristate.imodules.com?sid=1691&amp;gid=2&amp;pgid=3750&amp;cid=6558&amp;e
 cid=6558&amp;ciid=23125&amp;crid=0
CATEGORIES:Public,Alumni,Parents and Family,Visitors
END:VEVENT
END:VCALENDAR