BEGIN:VCALENDAR
VERSION:2.0
METHOD:PUBLISH
PRODID:-//Missouri State University/Calendar of Events//EN
CALSCALE:GREGORIAN
X-WR-TIMEZONE:America/Chicago
BEGIN:VTIMEZONE
TZID:America/Chicago
BEGIN:DAYLIGHT
TZOFFSETFROM:-0600
TZOFFSETTO:-0500
DTSTART:20070311T020000
RRULE:FREQ=YEARLY;BYMONTH=3;BYDAY=2SU
TZNAME:CDT
END:DAYLIGHT
BEGIN:STANDARD
TZOFFSETFROM:-0500
TZOFFSETTO:-0600
DTSTART:20071104T020000
RRULE:FREQ=YEARLY;BYMONTH=11;BYDAY=1SU
TZNAME:CST
END:STANDARD
END:VTIMEZONE
BEGIN:VEVENT
UID:00000000-0000-0000-0000-000000000000.234774@calendar.missouristate.edu
CREATED:20240523T204536Z
LAST-MODIFIED:20240523T204536Z
LOCATION:To Be Determined
SUMMARY:St. Louis Alumni Chapter University Day at Busch Stadium
DESCRIPTION:Join fellow Bears on Sunday\, July 28 for University Day at Bu
 sch Stadium! Each $20 ticket includes a Missouri State / St. Louis Cardin
 als branded 40 oz tumbler. 
X-ALT-DESC;FMTTYPE=text/html:&lt;html&gt;&lt;head&gt;&lt;title&gt;&lt;/title&gt;&lt;/head&gt;&lt;body&gt;Join 
 fellow Bears on Sunday\, July 28 for University Day at Busch Stadium!&amp;nbs
 p\;Each $20 ticket includes a Missouri State / St. Louis Cardinals brande
 d 40 oz tumbler.&amp;nbsp\;&lt;/body&gt;&lt;/html&gt;
DTSTART;TZID=America/Chicago:20240728T131500
DTEND;TZID=America/Chicago:20240728T151500
SEQUENCE:0
URL:https://missouristate.imodules.com?sid=1691&amp;gid=2&amp;pgid=3764&amp;cid=6577&amp;e
 cid=6577&amp;ciid=23261&amp;crid=0
CATEGORIES:Public,Alumni,Parents and Family,Visitors
END:VEVENT
END:VCALENDAR