BEGIN:VCALENDAR
VERSION:2.0
METHOD:PUBLISH
PRODID:-//Missouri State University/Calendar of Events//EN
CALSCALE:GREGORIAN
X-WR-TIMEZONE:America/Chicago
BEGIN:VTIMEZONE
TZID:America/Chicago
BEGIN:DAYLIGHT
TZOFFSETFROM:-0600
TZOFFSETTO:-0500
DTSTART:20070311T020000
RRULE:FREQ=YEARLY;BYMONTH=3;BYDAY=2SU
TZNAME:CDT
END:DAYLIGHT
BEGIN:STANDARD
TZOFFSETFROM:-0500
TZOFFSETTO:-0600
DTSTART:20071104T020000
RRULE:FREQ=YEARLY;BYMONTH=11;BYDAY=1SU
TZNAME:CST
END:STANDARD
END:VTIMEZONE
BEGIN:VEVENT
UID:00000000-0000-0000-0000-000000000000.234782@calendar.missouristate.edu
CREATED:20240524T144613Z
LAST-MODIFIED:20240524T144613Z
LOCATION:To Be Determined
SUMMARY:9th Annual St. Louis Alumni Chapter Golf Tournament 
DESCRIPTION:Build your team and play The Missouri Bluffs Golf Club in St. 
 Charles on September 26. Proceeds benefit the St. Louis Alumni Chapter Sc
 holarship fund.
X-ALT-DESC;FMTTYPE=text/html:&lt;html&gt;&lt;head&gt;&lt;title&gt;&lt;/title&gt;&lt;/head&gt;&lt;body&gt;&lt;p&gt;Bu
 ild your team and play The Missouri Bluffs Golf Club in St. Charles on Se
 ptember 26. Proceeds benefit the St. Louis Alumni Chapter Scholarship fun
 d.&lt;br&gt;\n&lt;/p&gt;&lt;/body&gt;&lt;/html&gt;
DTSTART;TZID=America/Chicago:20240926T090000
DTEND;TZID=America/Chicago:20240926T160000
SEQUENCE:0
URL:https://missouristate.imodules.com?sid=1691&amp;gid=2&amp;pgid=3767&amp;cid=6581&amp;e
 cid=6581&amp;ciid=23694&amp;crid=0
CATEGORIES:Public,Alumni,Parents and Family,Visitors
END:VEVENT
END:VCALENDAR