BEGIN:VCALENDAR
VERSION:2.0
METHOD:PUBLISH
PRODID:-//Missouri State University/Calendar of Events//EN
CALSCALE:GREGORIAN
X-WR-TIMEZONE:America/Chicago
BEGIN:VTIMEZONE
TZID:America/Chicago
BEGIN:DAYLIGHT
TZOFFSETFROM:-0600
TZOFFSETTO:-0500
DTSTART:20070311T020000
RRULE:FREQ=YEARLY;BYMONTH=3;BYDAY=2SU
TZNAME:CDT
END:DAYLIGHT
BEGIN:STANDARD
TZOFFSETFROM:-0500
TZOFFSETTO:-0600
DTSTART:20071104T020000
RRULE:FREQ=YEARLY;BYMONTH=11;BYDAY=1SU
TZNAME:CST
END:STANDARD
END:VTIMEZONE
BEGIN:VEVENT
UID:00000000-0000-0000-0000-000000000000.234791@calendar.missouristate.edu
CREATED:20240603T194502Z
LAST-MODIFIED:20240603T194502Z
LOCATION:To Be Determined
SUMMARY:Springfield Alumni Chapter Social
DESCRIPTION:Alumni and friends in the greater Springfield area are invited
  to the Wire Road Brewing Company on July 22. Come celebrate the annivers
 ary of the Springfield Alumni Chapter and network with fellow Bears.
X-ALT-DESC;FMTTYPE=text/html:&lt;html&gt;&lt;head&gt;&lt;title&gt;&lt;/title&gt;&lt;/head&gt;&lt;body&gt;&lt;span
 &gt;Alumni and friends in the greater Springfield area are invited to the Wi
 re Road Brewing Company on July 22. Come celebrate the anniversary of the
  Springfield Alumni Chapter and network with fellow Bears.&lt;/span&gt;&lt;br&gt;&lt;/bo
 dy&gt;&lt;/html&gt;
DTSTART;TZID=America/Chicago:20240717T180000
DTEND;TZID=America/Chicago:20240717T200000
SEQUENCE:0
URL:https://missouristate.imodules.com?sid=1691&amp;gid=2&amp;pgid=3806&amp;cid=6646&amp;e
 cid=6646&amp;ciid=23295&amp;crid=0
CATEGORIES:Public,Alumni,Parents and Family,Visitors
END:VEVENT
END:VCALENDAR