BEGIN:VCALENDAR
VERSION:2.0
METHOD:PUBLISH
PRODID:-//Missouri State University/Calendar of Events//EN
CALSCALE:GREGORIAN
X-WR-TIMEZONE:America/Chicago
BEGIN:VTIMEZONE
TZID:America/Chicago
BEGIN:DAYLIGHT
TZOFFSETFROM:-0600
TZOFFSETTO:-0500
DTSTART:20070311T020000
RRULE:FREQ=YEARLY;BYMONTH=3;BYDAY=2SU
TZNAME:CDT
END:DAYLIGHT
BEGIN:STANDARD
TZOFFSETFROM:-0500
TZOFFSETTO:-0600
DTSTART:20071104T020000
RRULE:FREQ=YEARLY;BYMONTH=11;BYDAY=1SU
TZNAME:CST
END:STANDARD
END:VTIMEZONE
BEGIN:VEVENT
UID:00000000-0000-0000-0000-000000000000.234788@calendar.missouristate.edu
CREATED:20240607T214504Z
LAST-MODIFIED:20240607T214504Z
LOCATION:To Be Determined
SUMMARY:Presidential Welcome Reception | Lake of the Ozarks
DESCRIPTION:Alumni\, friends and family in the Central Missouri area are i
 nvited connect and meet the 12th president of Missouri State University\,
  President "Biff" Williams at the Lake of the Ozark on Thursday\, August 
 1\, 2024.
X-ALT-DESC;FMTTYPE=text/html:&lt;html&gt;&lt;head&gt;&lt;title&gt;&lt;/title&gt;&lt;/head&gt;&lt;body&gt;&lt;span
 &gt;Alumni\, friends and family in the Central Missouri area are invited con
 nect and meet the 12th president of Missouri State University\, President
  "Biff" Williams at the Lake of the Ozark on Thursday\, August 1\, 2024.&lt;
 /span&gt;&lt;br&gt;&lt;/body&gt;&lt;/html&gt;
DTSTART;TZID=America/Chicago:20240801T180000
DTEND;TZID=America/Chicago:20240801T200000
SEQUENCE:0
URL:https://missouristate.imodules.com?sid=1691&amp;gid=2&amp;pgid=3785&amp;cid=6617&amp;e
 cid=6617&amp;ciid=23426&amp;crid=0
CATEGORIES:Public,Alumni,Parents and Family,Visitors
END:VEVENT
END:VCALENDAR