BEGIN:VCALENDAR
VERSION:2.0
METHOD:PUBLISH
PRODID:-//Missouri State University/Calendar of Events//EN
CALSCALE:GREGORIAN
X-WR-TIMEZONE:America/Chicago
BEGIN:VTIMEZONE
TZID:America/Chicago
BEGIN:DAYLIGHT
TZOFFSETFROM:-0600
TZOFFSETTO:-0500
DTSTART:20070311T020000
RRULE:FREQ=YEARLY;BYMONTH=3;BYDAY=2SU
TZNAME:CDT
END:DAYLIGHT
BEGIN:STANDARD
TZOFFSETFROM:-0500
TZOFFSETTO:-0600
DTSTART:20071104T020000
RRULE:FREQ=YEARLY;BYMONTH=11;BYDAY=1SU
TZNAME:CST
END:STANDARD
END:VTIMEZONE
BEGIN:VEVENT
UID:d3b011cc-28c8-433c-9d73-f3d3d937a8f8.234849@calendar.missouristate.edu
CREATED:20240618T051506Z
LAST-MODIFIED:20240618T051506Z
LOCATION:Cedar Falls\, Iowa
SUMMARY:Missouri State University Women's Volleyball vs MVC Tournament
DESCRIPTION:Missouri State University Women's Volleyball plays MVC Tournam
 entTV: ESPN3
X-ALT-DESC;FMTTYPE=text/html:&lt;html&gt;&lt;head&gt;&lt;title&gt;&lt;/title&gt;&lt;/head&gt;&lt;body&gt;Misso
 uri State University Women's Volleyball plays MVC Tournament&lt;br&gt;&lt;br&gt;TV: E
 SPN3&lt;/body&gt;&lt;/html&gt;
DTSTART;VALUE=DATE:20241123
DTEND;VALUE=DATE:20241124
SEQUENCE:0
URL:http://missouristatebears.com/index.aspx?path=wvball
CATEGORIES:Current Students,Future Students,Parents and Family,Alumni,
 Faculty,Staff,Community,Visitors,Athletics
END:VEVENT
END:VCALENDAR