BEGIN:VCALENDAR
VERSION:2.0
METHOD:PUBLISH
PRODID:-//Missouri State University/Calendar of Events//EN
CALSCALE:GREGORIAN
X-WR-TIMEZONE:America/Chicago
BEGIN:VTIMEZONE
TZID:America/Chicago
BEGIN:DAYLIGHT
TZOFFSETFROM:-0600
TZOFFSETTO:-0500
DTSTART:20070311T020000
RRULE:FREQ=YEARLY;BYMONTH=3;BYDAY=2SU
TZNAME:CDT
END:DAYLIGHT
BEGIN:STANDARD
TZOFFSETFROM:-0500
TZOFFSETTO:-0600
DTSTART:20071104T020000
RRULE:FREQ=YEARLY;BYMONTH=11;BYDAY=1SU
TZNAME:CST
END:STANDARD
END:VTIMEZONE
BEGIN:VEVENT
UID:00000000-0000-0000-0000-000000000000.234850@calendar.missouristate.edu
CREATED:20240618T184504Z
LAST-MODIFIED:20240618T184504Z
LOCATION:To Be Determined
SUMMARY:Class of 1974 Reunion
DESCRIPTION:The Missouri State University Alumni Association and the Class
  of 1974 Reunion Committee cordially invite you to join classmates to rek
 indle college memories at your Golden Anniversary Celebration on October 
 18\, 2024.\n\n\n 
X-ALT-DESC;FMTTYPE=text/html:&lt;html&gt;&lt;head&gt;&lt;title&gt;&lt;/title&gt;&lt;/head&gt;&lt;body&gt;&lt;p&gt;Th
 e Missouri State University Alumni Association and the Class of 1974 Reun
 ion Committee cordially invite you to join classmates to rekindle college
  memories at your Golden Anniversary Celebration on October 18\, 2024.&lt;/p
 &gt;\n&lt;p&gt;&amp;nbsp\;&lt;/p&gt;&lt;/body&gt;&lt;/html&gt;
DTSTART;TZID=America/Chicago:20241018T113000
DTEND;TZID=America/Chicago:20241018T153000
SEQUENCE:0
URL:https://missouristate.imodules.com?sid=1691&amp;gid=2&amp;pgid=3809&amp;cid=6650&amp;e
 cid=6650&amp;ciid=23743&amp;crid=0
CATEGORIES:Public,Alumni,Parents and Family,Visitors
END:VEVENT
END:VCALENDAR