BEGIN:VCALENDAR
VERSION:2.0
METHOD:PUBLISH
PRODID:-//Missouri State University/Calendar of Events//EN
CALSCALE:GREGORIAN
X-WR-TIMEZONE:America/Chicago
BEGIN:VTIMEZONE
TZID:America/Chicago
BEGIN:DAYLIGHT
TZOFFSETFROM:-0600
TZOFFSETTO:-0500
DTSTART:20070311T020000
RRULE:FREQ=YEARLY;BYMONTH=3;BYDAY=2SU
TZNAME:CDT
END:DAYLIGHT
BEGIN:STANDARD
TZOFFSETFROM:-0500
TZOFFSETTO:-0600
DTSTART:20071104T020000
RRULE:FREQ=YEARLY;BYMONTH=11;BYDAY=1SU
TZNAME:CST
END:STANDARD
END:VTIMEZONE
BEGIN:VEVENT
UID:00000000-0000-0000-0000-000000000000.234854@calendar.missouristate.edu
CREATED:20240621T164501Z
LAST-MODIFIED:20240621T164501Z
LOCATION:To Be Determined
SUMMARY:St. Louis Alumni Chapter Night at CITYPARK with Kyle Hiebert '19
DESCRIPTION:Join the St. Louis Alumni Chapter for an exclusive event at CI
 TYPARK! Meet St. Louis CITY SC player and Missouri State '19 alum Kyle Hi
 ebert and enjoy a private Q&amp;A session lead by John Leamy. Attendees can a
 lso expect a group photo op and the chance to win giveaway prizes. Regist
 ration includes light food. A cash bar will be available at the venue.\n\
 n\n 
X-ALT-DESC;FMTTYPE=text/html:&lt;html&gt;&lt;head&gt;&lt;title&gt;&lt;/title&gt;&lt;/head&gt;&lt;body&gt;&lt;p&gt;Jo
 in the St. Louis Alumni Chapter for an exclusive event at CITYPARK! Meet 
 St. Louis CITY SC player and Missouri State '19 alum Kyle Hiebert and enj
 oy a private Q&amp;amp\;A session lead by John Leamy. Attendees can also expe
 ct a group photo op and the chance to win giveaway prizes. Registration i
 ncludes light food. A cash bar will be available at the venue.&lt;/p&gt;\n&lt;p&gt;&amp;n
 bsp\;&lt;/p&gt;&lt;/body&gt;&lt;/html&gt;
DTSTART;TZID=America/Chicago:20240722T180000
DTEND;TZID=America/Chicago:20240722T200000
SEQUENCE:0
URL:https://missouristate.imodules.com?sid=1691&amp;gid=2&amp;pgid=3820&amp;cid=6664&amp;e
 cid=6664&amp;ciid=23260&amp;crid=0
CATEGORIES:Public,Alumni,Parents and Family,Visitors
END:VEVENT
END:VCALENDAR