BEGIN:VCALENDAR
VERSION:2.0
METHOD:PUBLISH
PRODID:-//Missouri State University/Calendar of Events//EN
CALSCALE:GREGORIAN
X-WR-TIMEZONE:America/Chicago
BEGIN:VTIMEZONE
TZID:America/Chicago
BEGIN:DAYLIGHT
TZOFFSETFROM:-0600
TZOFFSETTO:-0500
DTSTART:20070311T020000
RRULE:FREQ=YEARLY;BYMONTH=3;BYDAY=2SU
TZNAME:CDT
END:DAYLIGHT
BEGIN:STANDARD
TZOFFSETFROM:-0500
TZOFFSETTO:-0600
DTSTART:20071104T020000
RRULE:FREQ=YEARLY;BYMONTH=11;BYDAY=1SU
TZNAME:CST
END:STANDARD
END:VTIMEZONE
BEGIN:VEVENT
UID:00000000-0000-0000-0000-000000000000.234857@calendar.missouristate.edu
CREATED:20240628T164505Z
LAST-MODIFIED:20240628T164505Z
LOCATION:To Be Determined
SUMMARY:KC Construction Management Golf Tournament
DESCRIPTION:Tee-off at the inaugural Missouri State Construction Managemen
 t KC Golf Tournament with fellow Bears and friends.  Build your team and 
 play the Adams Pointe Golf Course in Blue Springs on Thursday\, October 3.
X-ALT-DESC;FMTTYPE=text/html:&lt;html&gt;&lt;head&gt;&lt;title&gt;&lt;/title&gt;&lt;/head&gt;&lt;body&gt;&lt;p&gt;Te
 e-off at the inaugural Missouri State Construction Management KC Golf Tou
 rnament with fellow Bears and friends.&amp;nbsp\; Build your team and play th
 e Adams Pointe Golf Course in Blue Springs on Thursday\, October 3.&lt;br&gt;\n
 &lt;/p&gt;&lt;/body&gt;&lt;/html&gt;
DTSTART;TZID=America/Chicago:20241003T073000
DTEND;TZID=America/Chicago:20241003T130000
SEQUENCE:0
URL:https://missouristate.imodules.com?sid=1691&amp;gid=2&amp;pgid=3829&amp;cid=6677&amp;e
 cid=6677&amp;ciid=23302&amp;crid=0
CATEGORIES:Public,Alumni,Parents and Family,Visitors
END:VEVENT
END:VCALENDAR