BEGIN:VCALENDAR
VERSION:2.0
METHOD:PUBLISH
PRODID:-//Missouri State University/Calendar of Events//EN
CALSCALE:GREGORIAN
X-WR-TIMEZONE:America/Chicago
BEGIN:VTIMEZONE
TZID:America/Chicago
BEGIN:DAYLIGHT
TZOFFSETFROM:-0600
TZOFFSETTO:-0500
DTSTART:20070311T020000
RRULE:FREQ=YEARLY;BYMONTH=3;BYDAY=2SU
TZNAME:CDT
END:DAYLIGHT
BEGIN:STANDARD
TZOFFSETFROM:-0500
TZOFFSETTO:-0600
DTSTART:20071104T020000
RRULE:FREQ=YEARLY;BYMONTH=11;BYDAY=1SU
TZNAME:CST
END:STANDARD
END:VTIMEZONE
BEGIN:VEVENT
UID:57bd5596-fc69-4f0b-812c-a33d6511f052.234866@calendar.missouristate.edu
CREATED:20240710T051503Z
LAST-MODIFIED:20240710T051503Z
LOCATION:Springfield\, Betty &amp; Bobby Allison South Stadium
SUMMARY:Missouri State University Men's Soccer vs Tulsa - Sporting KC &amp; Sp
 ringfield Day + Camper Night
DESCRIPTION:Missouri State University Men's Soccer plays Tulsa - Sporting 
 KC &amp; Springfield Day + Camper Night
X-ALT-DESC;FMTTYPE=text/html:&lt;html&gt;&lt;head&gt;&lt;title&gt;&lt;/title&gt;&lt;/head&gt;&lt;body&gt;Misso
 uri State University Men's Soccer plays Tulsa - Sporting KC &amp; Springfield
  Day + Camper Night&lt;/body&gt;&lt;/html&gt;
DTSTART;TZID=America/Chicago:20240906T190000
DTEND;TZID=America/Chicago:20240906T210000
SEQUENCE:0
URL:http://missouristatebears.com/index.aspx?path=msoc
CATEGORIES:Current Students,Future Students,Parents and Family,Alumni,
 Faculty,Staff,Community,Visitors,Athletics
END:VEVENT
END:VCALENDAR