BEGIN:VCALENDAR
VERSION:2.0
METHOD:PUBLISH
PRODID:-//Missouri State University/Calendar of Events//EN
CALSCALE:GREGORIAN
X-WR-TIMEZONE:America/Chicago
BEGIN:VTIMEZONE
TZID:America/Chicago
BEGIN:DAYLIGHT
TZOFFSETFROM:-0600
TZOFFSETTO:-0500
DTSTART:20070311T020000
RRULE:FREQ=YEARLY;BYMONTH=3;BYDAY=2SU
TZNAME:CDT
END:DAYLIGHT
BEGIN:STANDARD
TZOFFSETFROM:-0500
TZOFFSETTO:-0600
DTSTART:20071104T020000
RRULE:FREQ=YEARLY;BYMONTH=11;BYDAY=1SU
TZNAME:CST
END:STANDARD
END:VTIMEZONE
BEGIN:VEVENT
UID:ed7c7b31-8d0e-470c-9f11-0abb31e2b428.234872@calendar.missouristate.edu
CREATED:20240710T051504Z
LAST-MODIFIED:20240710T051504Z
LOCATION:Springfield\, Betty &amp; Bobby Allison South Stadium
SUMMARY:Missouri State University Men's Soccer vs Northern Illinois - FSL 
 Night
DESCRIPTION:Missouri State University Men's Soccer plays Northern Illinois
  - FSL Night
X-ALT-DESC;FMTTYPE=text/html:&lt;html&gt;&lt;head&gt;&lt;title&gt;&lt;/title&gt;&lt;/head&gt;&lt;body&gt;Misso
 uri State University Men's Soccer plays Northern Illinois - FSL Night&lt;/bo
 dy&gt;&lt;/html&gt;
DTSTART;TZID=America/Chicago:20241006T190000
DTEND;TZID=America/Chicago:20241006T210000
SEQUENCE:0
URL:http://missouristatebears.com/index.aspx?path=msoc
CATEGORIES:Current Students,Future Students,Parents and Family,Alumni,
 Faculty,Staff,Community,Visitors,Athletics
END:VEVENT
END:VCALENDAR