BEGIN:VCALENDAR
VERSION:2.0
METHOD:PUBLISH
PRODID:-//Missouri State University/Calendar of Events//EN
CALSCALE:GREGORIAN
X-WR-TIMEZONE:America/Chicago
BEGIN:VTIMEZONE
TZID:America/Chicago
BEGIN:DAYLIGHT
TZOFFSETFROM:-0600
TZOFFSETTO:-0500
DTSTART:20070311T020000
RRULE:FREQ=YEARLY;BYMONTH=3;BYDAY=2SU
TZNAME:CDT
END:DAYLIGHT
BEGIN:STANDARD
TZOFFSETFROM:-0500
TZOFFSETTO:-0600
DTSTART:20071104T020000
RRULE:FREQ=YEARLY;BYMONTH=11;BYDAY=1SU
TZNAME:CST
END:STANDARD
END:VTIMEZONE
BEGIN:VEVENT
UID:00000000-0000-0000-0000-000000000000.234882@calendar.missouristate.edu
CREATED:20240712T174504Z
LAST-MODIFIED:20240712T174504Z
LOCATION:To Be Determined
SUMMARY:Springfield Alumni Chapter Tailgate Party
DESCRIPTION:Break out your BearWear to show your #BearPride at the Springf
 ield Alumni Chapter tailgate on September 14. Fuel up on brats\, bring yo
 ur own drinks and enjoy tailgate games. Then\, head to Plaster Stadium ac
 ross the street to cheer on our Bears as they take on the Lindenwood Lions
X-ALT-DESC;FMTTYPE=text/html:&lt;html&gt;&lt;head&gt;&lt;title&gt;&lt;/title&gt;&lt;/head&gt;&lt;body&gt;&lt;p&gt;Br
 eak out your BearWear to show your #BearPride at the Springfield Alumni C
 hapter tailgate on September 14. Fuel up on brats\, bring your own drinks
  and enjoy tailgate games. Then\, head to Plaster Stadium across the stre
 et to cheer on our Bears as they take on the Lindenwood Lions&lt;br&gt;\n&lt;/p&gt;&lt;/
 body&gt;&lt;/html&gt;
DTSTART;TZID=America/Chicago:20240914T160000
DTEND;TZID=America/Chicago:20240914T180000
SEQUENCE:0
URL:https://missouristate.imodules.com?sid=1691&amp;gid=2&amp;pgid=3835&amp;cid=6691&amp;e
 cid=6691&amp;ciid=23692&amp;crid=0
CATEGORIES:Public,Alumni,Parents and Family,Visitors
END:VEVENT
END:VCALENDAR