BEGIN:VCALENDAR
VERSION:2.0
METHOD:PUBLISH
PRODID:-//Missouri State University/Calendar of Events//EN
CALSCALE:GREGORIAN
X-WR-TIMEZONE:America/Chicago
BEGIN:VTIMEZONE
TZID:America/Chicago
BEGIN:DAYLIGHT
TZOFFSETFROM:-0600
TZOFFSETTO:-0500
DTSTART:20070311T020000
RRULE:FREQ=YEARLY;BYMONTH=3;BYDAY=2SU
TZNAME:CDT
END:DAYLIGHT
BEGIN:STANDARD
TZOFFSETFROM:-0500
TZOFFSETTO:-0600
DTSTART:20071104T020000
RRULE:FREQ=YEARLY;BYMONTH=11;BYDAY=1SU
TZNAME:CST
END:STANDARD
END:VTIMEZONE
BEGIN:VEVENT
UID:2f4bd85f-4e17-4eb4-931d-ef20c778db4b.234919@calendar.missouristate.edu
CREATED:20240725T051506Z
LAST-MODIFIED:20240725T051506Z
LOCATION:Cedal Falls\, Iowa
SUMMARY:Missouri State University Women's Cross Country at Missouri Valley
  Conference Championship
DESCRIPTION:Missouri State University Women's Cross Country visits Missour
 i Valley Conference Championship
X-ALT-DESC;FMTTYPE=text/html:&lt;html&gt;&lt;head&gt;&lt;title&gt;&lt;/title&gt;&lt;/head&gt;&lt;body&gt;Misso
 uri State University Women's Cross Country visits Missouri Valley Confere
 nce Championship&lt;/body&gt;&lt;/html&gt;
DTSTART;TZID=America/Chicago:20241101T000000
DTEND;TZID=America/Chicago:20241101T000000
SEQUENCE:0
URL:http://missouristatebears.com/index.aspx?path=wcross
CATEGORIES:Current Students,Future Students,Parents and Family,Alumni,
 Faculty,Staff,Community,Visitors,Athletics
END:VEVENT
END:VCALENDAR