BEGIN:VCALENDAR
VERSION:2.0
METHOD:PUBLISH
PRODID:-//Missouri State University/Calendar of Events//EN
CALSCALE:GREGORIAN
X-WR-TIMEZONE:America/Chicago
BEGIN:VTIMEZONE
TZID:America/Chicago
BEGIN:DAYLIGHT
TZOFFSETFROM:-0600
TZOFFSETTO:-0500
DTSTART:20070311T020000
RRULE:FREQ=YEARLY;BYMONTH=3;BYDAY=2SU
TZNAME:CDT
END:DAYLIGHT
BEGIN:STANDARD
TZOFFSETFROM:-0500
TZOFFSETTO:-0600
DTSTART:20071104T020000
RRULE:FREQ=YEARLY;BYMONTH=11;BYDAY=1SU
TZNAME:CST
END:STANDARD
END:VTIMEZONE
BEGIN:VEVENT
UID:c2a5d330-8bdd-4a14-860b-fea3ac1479c4.234923@calendar.missouristate.edu
CREATED:20240730T051505Z
LAST-MODIFIED:20240730T051505Z
LOCATION:Conway\, Ark.
SUMMARY:Missouri State University Women's Tennis at UCA Fall Tournament
DESCRIPTION:Missouri State University Women's Tennis visits UCA Fall Tourn
 ament
X-ALT-DESC;FMTTYPE=text/html:&lt;html&gt;&lt;head&gt;&lt;title&gt;&lt;/title&gt;&lt;/head&gt;&lt;body&gt;Misso
 uri State University Women's Tennis visits UCA Fall Tournament&lt;/body&gt;&lt;/ht
 ml&gt;
DTSTART;VALUE=DATE:20240920
DTEND;VALUE=DATE:20240921
SEQUENCE:0
URL:http://missouristatebears.com/index.aspx?path=wten
CATEGORIES:Current Students,Future Students,Parents and Family,Alumni,
 Faculty,Staff,Community,Visitors,Athletics
END:VEVENT
END:VCALENDAR